BEGIN:VCALENDAR
VERSION:2.0
PRODID:-//Geneseo Chamber of Commerce - ECPv6.14.1//NONSGML v1.0//EN
CALSCALE:GREGORIAN
METHOD:PUBLISH
X-ORIGINAL-URL:https://geneseo.org
X-WR-CALDESC:Events for Geneseo Chamber of Commerce
REFRESH-INTERVAL;VALUE=DURATION:PT1H
X-Robots-Tag:noindex
X-PUBLISHED-TTL:PT1H
BEGIN:VTIMEZONE
TZID:America/Chicago
BEGIN:DAYLIGHT
TZOFFSETFROM:-0600
TZOFFSETTO:-0500
TZNAME:CDT
DTSTART:20250309T080000
END:DAYLIGHT
BEGIN:STANDARD
TZOFFSETFROM:-0500
TZOFFSETTO:-0600
TZNAME:CST
DTSTART:20251102T070000
END:STANDARD
END:VTIMEZONE
BEGIN:VEVENT
DTSTART;TZID=America/Chicago:20251113T170000
DTEND;TZID=America/Chicago:20251113T200000
DTSTAMP:20260422T170207
CREATED:20251110T170327Z
LAST-MODIFIED:20251110T170327Z
UID:5836-1763053200-1763064000@geneseo.org
SUMMARY:Dine to Donate at Culvers - Benefitting the Henry County Humane Society
DESCRIPTION:  \nStop in or drive thru for some delicious Culver’s and support the Henry County Humane Society-Geneseo! Whether you are looking to enjoy one of their delectable burgers or creamy\, fresh frozen custard you are sure to leave satisfied! Not only because you enjoyed some great food but because you also helped a great cause! A portion of all sales will go towards helping the cats and dogs at our shelter. We hope to see you there! \n 
URL:https://geneseo.org/event/dine-to-donate-at-culvers-benefitting-the-henry-county-humane-society/
LOCATION:Culver’s of Geneseo\, 1275 S. Oakwood Ave.\, Geneseo\, IL\, 61254\, United States
END:VEVENT
BEGIN:VEVENT
DTSTART;TZID=America/Chicago:20251111T100000
DTEND;TZID=America/Chicago:20251111T110000
DTSTAMP:20260422T170207
CREATED:20251028T191316Z
LAST-MODIFIED:20251028T191529Z
UID:5798-1762855200-1762858800@geneseo.org
SUMMARY:Veterans Day Assembly
DESCRIPTION:  \nGeneseo High School will again open its doors on Veterans Day to honor the brave men and women who have served our country.On Tuesday\, November 11\, students and teachers will gather in the concert hall for the school’s annual Veterans Day assembly\, a heartfelt tradition that celebrates the sacrifices and dedication of local veterans and active-duty military members.GHS invites all veterans and active service members to attend as honored guests. The morning will begin with refreshments at 9:30\, offering guests a chance to connect before the ceremony starts at 10:10. \n 
URL:https://geneseo.org/event/veterans-day-assembly/
LOCATION:Geneseo High School\, 700 N. State St.\, Geneseo\, IL\, 61254\, United States
END:VEVENT
BEGIN:VEVENT
DTSTART;TZID=America/Chicago:20251111T070000
DTEND;TZID=America/Chicago:20251111T140000
DTSTAMP:20260422T170207
CREATED:20250928T145649Z
LAST-MODIFIED:20251101T132316Z
UID:5642-1762844400-1762869600@geneseo.org
SUMMARY:Geneseo Aisle of Flags
DESCRIPTION:Geneseo’s iconic Aisle of Flags is displayed every Memorial Day\, Independence Day\, and Veterans Day. \nOver 900 flags honor local veterans are displayed from 7:00 am to 2:00 pm on each holiday at the Geneseo City Park. \nVolunteers are needed to help set up the display at 7:00 am\, and to take down the display at 2:00 pm at the park. \n  \n \n 
URL:https://geneseo.org/event/geneseo-aisle-of-flags-4/
LOCATION:Geneseo City Park\, 140 W. Pearl St.\, Geneseo\, IL\, 61254\, United States
END:VEVENT
BEGIN:VEVENT
DTSTART;TZID=America/Chicago:20251108T100000
DTEND;TZID=America/Chicago:20251108T140000
DTSTAMP:20260422T170207
CREATED:20251028T210540Z
LAST-MODIFIED:20251028T210540Z
UID:5802-1762596000-1762610400@geneseo.org
SUMMARY:Needle Felting Class
DESCRIPTION: 
URL:https://geneseo.org/event/needle-felting-class/
LOCATION:Geneseo Art League and Gallery\, 125 N. State St\, Geneseo\, IL\, 61254\, United States
END:VEVENT
BEGIN:VEVENT
DTSTART;TZID=America/Chicago:20251108T090000
DTEND;TZID=America/Chicago:20251108T140000
DTSTAMP:20260422T170207
CREATED:20251011T124112Z
LAST-MODIFIED:20251011T124834Z
UID:5735-1762592400-1762610400@geneseo.org
SUMMARY:Cram the Cab Food Drive
DESCRIPTION:  \nHelp the Young Leaders to “Cram the Cab” and donate to the local food pantry! Stop at see us the Geneseo Fareway on Saturday\, November 8\, 9am-2pm. \n 
URL:https://geneseo.org/event/cram-the-cab-food-drive/
LOCATION:Fareway Meat & Grocery of Geneseo\, 540 Pritchard Drive\, Geneseo\, IL\, 61254\, United States
END:VEVENT
BEGIN:VEVENT
DTSTART;TZID=America/Chicago:20251106T180000
DTEND;TZID=America/Chicago:20251106T200000
DTSTAMP:20260422T170207
CREATED:20250928T142802Z
LAST-MODIFIED:20250928T142802Z
UID:5627-1762452000-1762459200@geneseo.org
SUMMARY:Disney Trivia Night
DESCRIPTION:  \nDISNEY TRIVIA NIGHT\nThursday\, November 6th @ 6pmRaelyn’s Pub & Eatery (Geneseo\, IL)\n\nFREE To PlayWin House CashALL AGES\n\nGet there early to get a table!
URL:https://geneseo.org/event/disney-trivia-night/
LOCATION:Raelyn’s Pub & Eatery\, 217 N. State St.\, Geneseo\, IL\, 61254\, United States
END:VEVENT
BEGIN:VEVENT
DTSTART;TZID=America/Chicago:20251101T163000
DTEND;TZID=America/Chicago:20251101T190000
DTSTAMP:20260422T170207
CREATED:20251011T123110Z
LAST-MODIFIED:20251011T123110Z
UID:5729-1762014600-1762023600@geneseo.org
SUMMARY:Wild Game Feast supporting Boy Scout Troop 131
DESCRIPTION:  \nGeneseo Troop 131 Annual Wild Game Feast. Serving buffalo\, pheasant\, goose\, venison\, salmon\, turkey\, chicken\, and all the fixins’ … Silent Auction as well. \n 
URL:https://geneseo.org/event/wild-game-feast-supporting-boy-scout-troop-131/
LOCATION:Geneseo Moose Lodge #990\, 1025 S. State St.\, Geneseo\, IL\, 61254\, United States
END:VEVENT
BEGIN:VEVENT
DTSTART;TZID=America/Chicago:20251101T110000
DTEND;TZID=America/Chicago:20251101T120000
DTSTAMP:20260422T170207
CREATED:20251013T151945Z
LAST-MODIFIED:20251013T151945Z
UID:5747-1761994800-1761998400@geneseo.org
SUMMARY:Tie A Yellow Ribbon Geneseo
DESCRIPTION:The Geneseo Chamber is teaming with the Geneseo VFW Post 5083 and the VFW Auxiliary again this year to honor veterans in Geneseo this November.\n\nTie a Yellow Ribbon is an easy concept – volunteers tie yellow ribbons around every tree at the City Park and boulevard on State Street. Businesses\, organizations\, churches and schools are also encouraged to participate by tying yellow ribbons around the trees on their property.\n\nThe ribbons go up on the afternoon of Saturday November 1. Volunteers will be at the City Park on North St. in the Rotary Pavilion shelter to distribute yellow ribbons to those looking to tie a yellow ribbon. The ribbons stay up through Veteran’s Day and come down on Wednesday November 12.\nWe will need volunteers to help tie ribbons. The effort should only last 1-2 hours with enough volunteers. Anyone interested in volunteering\, donating\, or with any questions are asked to contact the Geneseo Chamber of Commerce at 309-944-2686.\n\n\nThe ribbons go up on the afternoon of Saturday November 1. Volunteers will be at the City Park on North St. in the Rotary Pavilion shelter to distribute yellow ribbons to those looking to tie a yellow ribbon. The ribbons stay up through Veteran’s Day and come down on Wednesday November 12.\n\nWe will need volunteers to help tie ribbons. The effort should only last 1-2 hours with enough volunteers. Anyone interested in volunteering\, donating\, or with any questions are asked to contact the Geneseo Chamber of Commerce at 309-944-2686.
URL:https://geneseo.org/event/tie-a-yellow-ribbon-geneseo/
LOCATION:Geneseo City Park\, 140 W. Pearl St.\, Geneseo\, IL\, 61254\, United States
END:VEVENT
BEGIN:VEVENT
DTSTART;TZID=America/Chicago:20251101T100000
DTEND;TZID=America/Chicago:20251101T170000
DTSTAMP:20260422T170207
CREATED:20250915T182938Z
LAST-MODIFIED:20250915T182938Z
UID:5523-1761991200-1762016400@geneseo.org
SUMMARY:Witches Weekend in Geneseo
DESCRIPTION:Fly on over to Geneseo for a Witches’ Weekend you won’t forget! As you shop and dine your way through our participating stores and restaurants\, you’ll be given chances to win Geneseo Chamber Gift Certificates\, as well as take advantage of goodies\, deals\, and prizes in stores. Don’t forget to wear your favorite witchy attire for a chance to win an extra prize!\n\nThe weekend kicks off with our popular Witches Night Out celebration on Thursday October 30 from 4 to 7pm. Vendors will also be set up in Downtown Geneseo during this time. Bring your friends for a fun\, Halloween-themed adventure as you get your passport punched from store to store.\n\nWitches Weekend continues for shoppers to complete their passports and enter into drawings for Geneseo Chamber Gift Certificates on Friday October 31 & Saturday November 1.\n\nYou can enter for a chance to win at each participating store you visit. Store hours vary\, and all slips must be turned in by closing time Saturday November 1.\n\nThe Geneseo Chamber will draw for winners live on Facebook the following week.
URL:https://geneseo.org/event/witches-weekend-in-geneseo-3/
LOCATION:Downtown Geneseo
END:VEVENT
BEGIN:VEVENT
DTSTART;TZID=America/Chicago:20251031T160000
DTEND;TZID=America/Chicago:20251031T190000
DTSTAMP:20260422T170207
CREATED:20251001T171105Z
LAST-MODIFIED:20251001T171105Z
UID:5667-1761926400-1761937200@geneseo.org
SUMMARY:Geneseo City-Wide Trick or Treating
DESCRIPTION: 
URL:https://geneseo.org/event/geneseo-city-wide-trick-or-treating/
LOCATION:City of Geneseo\, 115 S. Oakwood Ave\, Geneseo\, IL\, 61254
END:VEVENT
BEGIN:VEVENT
DTSTART;TZID=America/Chicago:20251031T160000
DTEND;TZID=America/Chicago:20251031T190000
DTSTAMP:20260422T170207
CREATED:20250927T135253Z
LAST-MODIFIED:20250927T135253Z
UID:5567-1761926400-1761937200@geneseo.org
SUMMARY:First Lutheran Church Trunk or Treat
DESCRIPTION:  \nJoin us for Trunk or Treat at First Lutheran Church on Friday\, October 31 from 4-7 p.m. Enjoy free hot dogs and hot chocolate and trick-or-treat at themed tables set up throughout our Fellowship Room. Enter from Main Street or the South Parking Lot. \n 
URL:https://geneseo.org/event/first-lutheran-church-trunk-or-treat-2/
LOCATION:First Lutheran Church ELCA\, 114 E. Main St.\, Geneseo\, IL\, 61254\, United States
END:VEVENT
BEGIN:VEVENT
DTSTART;TZID=America/Chicago:20251031T100000
DTEND;TZID=America/Chicago:20251031T170000
DTSTAMP:20260422T170207
CREATED:20250915T182735Z
LAST-MODIFIED:20250915T182735Z
UID:5521-1761904800-1761930000@geneseo.org
SUMMARY:Witches Weekend in Geneseo
DESCRIPTION:  \nFly on over to Geneseo for a Witches’ Weekend you won’t forget! As you shop and dine your way through our participating stores and restaurants\, you’ll be given chances to win Geneseo Chamber Gift Certificates\, as well as take advantage of goodies\, deals\, and prizes in stores. Don’t forget to wear your favorite witchy attire for a chance to win an extra prize!\n\nThe weekend kicks off with our popular Witches Night Out celebration on Thursday October 30 from 4 to 7pm. Vendors will also be set up in Downtown Geneseo during this time. Bring your friends for a fun\, Halloween-themed adventure as you get your passport punched from store to store.\n\nWitches Weekend continues for shoppers to complete their passports and enter into drawings for Geneseo Chamber Gift Certificates on Friday October 31 & Saturday November 1.\n\nYou can enter for a chance to win at each participating store you visit. Store hours vary\, and all slips must be turned in by closing time Saturday November 1.\n\nThe Geneseo Chamber will draw for winners live on Facebook the following week.\n 
URL:https://geneseo.org/event/witches-weekend-in-geneseo-2/
LOCATION:Downtown Geneseo
END:VEVENT
BEGIN:VEVENT
DTSTART;TZID=America/Chicago:20251031T100000
DTEND;TZID=America/Chicago:20251031T140000
DTSTAMP:20260422T170207
CREATED:20251028T210731Z
LAST-MODIFIED:20251028T210937Z
UID:5808-1761904800-1761919200@geneseo.org
SUMMARY:Mosaic Class
DESCRIPTION: 
URL:https://geneseo.org/event/mosaic-class/
LOCATION:Geneseo Art League and Gallery\, 125 N. State St\, Geneseo\, IL\, 61254\, United States
END:VEVENT
BEGIN:VEVENT
DTSTART;TZID=America/Chicago:20251030T180000
DTEND;TZID=America/Chicago:20251030T200000
DTSTAMP:20260422T170207
CREATED:20250928T142536Z
LAST-MODIFIED:20250928T142536Z
UID:5624-1761847200-1761854400@geneseo.org
SUMMARY:Hocus Pocus Trivia
DESCRIPTION:  \n“Wench! Trollop! You bucktoothed\, mop-riding firefly from hell!”\n\nHocus Pocus TriviaThursday\, October 30th @ 6pmRaelyn’s Pub & Eatery (Geneseo\, IL)\n\nFREE To PlayWin House CashALL AGES\n\nCostumes are encouraged!
URL:https://geneseo.org/event/hocus-pocus-trivia/
LOCATION:Raelyn’s Pub & Eatery\, 217 N. State St.\, Geneseo\, IL\, 61254\, United States
END:VEVENT
BEGIN:VEVENT
DTSTART;TZID=America/Chicago:20251030T160000
DTEND;TZID=America/Chicago:20251030T190000
DTSTAMP:20260422T170207
CREATED:20250915T182516Z
LAST-MODIFIED:20250915T182516Z
UID:5517-1761840000-1761850800@geneseo.org
SUMMARY:Witches Night Out in Geneseo - part of Witches Weekend
DESCRIPTION:  \nFly on over to Geneseo for a Witches’ Weekend you won’t forget! As you shop and dine your way through our participating stores and restaurants\, you’ll be given chances to win Geneseo Chamber Gift Certificates\, as well as take advantage of goodies\, deals\, and prizes in stores. Don’t forget to wear your favorite witchy attire for a chance to win an extra prize!\n\nThe weekend kicks off with our popular Witches Night Out celebration on Thursday October 30 from 4 to 7pm. Vendors will also be set up in Downtown Geneseo during this time. Bring your friends for a fun\, Halloween-themed adventure as you get your passport punched from store to store.\n\nWitches Weekend continues for shoppers to complete their passports and enter into drawings for Geneseo Chamber Gift Certificates on Friday October 31 & Saturday November 1.\n\nYou can enter for a chance to win at each participating store you visit. Store hours vary\, and all slips must be turned in by closing time Saturday November 1.\n\nThe Geneseo Chamber will draw for winners live on Facebook the following week\n  \n \n 
URL:https://geneseo.org/event/witches-night-out-in-geneseo-part-of-witches-weekend/
LOCATION:Downtown Geneseo
END:VEVENT
BEGIN:VEVENT
DTSTART;TZID=America/Chicago:20251027T140000
DTEND;TZID=America/Chicago:20251027T153000
DTSTAMP:20260422T170207
CREATED:20251002T184032Z
LAST-MODIFIED:20251002T184032Z
UID:5670-1761573600-1761579000@geneseo.org
SUMMARY:Confessions of a Baseball Scout
DESCRIPTION: 
URL:https://geneseo.org/event/confessions-of-a-baseball-scout/
LOCATION:Geneseo Public Library\, 805 N. Chicago St.\, Geneseo\, IL\, 61254
END:VEVENT
BEGIN:VEVENT
DTSTART;TZID=America/Chicago:20251026T100000
DTEND;TZID=America/Chicago:20251026T140000
DTSTAMP:20260422T170207
CREATED:20251022T202523Z
LAST-MODIFIED:20251022T202523Z
UID:5772-1761472800-1761487200@geneseo.org
SUMMARY:Pet Costume Trick Or Treat & Photo Booth Event
DESCRIPTION:  \nPET COSTUME TRICK OR TREAT & PHOTO BOOTH EVENT \nLocation: Blain’s Farm & Fleet\, 1098 S. Chicago St. in Geneseo\, IL \nSunday October 26\, 2025 from 10:00 am to 2:00 pm \n\nJoin Us This Sunday for a PAW-some Event!\n\n\nWhen: Sunday\, Oct. 26 | 10 AM–2 PM\nWhere: ALL Blain’s Farm & Fleet locations\n\n\nDress up your pets and stop by for our Pet Costume & Treat Event! Your furry friends can enjoy FREE treats\, and you can snap some adorable photos at our photo booth.\n\n\nPLUS: Don’t miss our $250 Gift Card Giveaway—going live on Facebook Sunday morning!\n\n 
URL:https://geneseo.org/event/pet-costume-trick-or-treat-photo-booth-event/
LOCATION:Blain’s Farm & Fleet\, 1098 S. Chicago St.\, Geneseo\, IL\, 61254\, United States
END:VEVENT
BEGIN:VEVENT
DTSTART;TZID=America/Chicago:20251025T190000
DTEND;TZID=America/Chicago:20251025T220000
DTSTAMP:20260422T170207
CREATED:20251011T122422Z
LAST-MODIFIED:20251011T122422Z
UID:5726-1761418800-1761429600@geneseo.org
SUMMARY:LIVE MUSIC - Ryan Bizarri at GBC
DESCRIPTION: 
URL:https://geneseo.org/event/live-music-ryan-bizarri-at-gbc/
LOCATION:Geneseo Brewing Co.\, 102 S. State St.\, Geneseo\, IL\, 61254\, United States
END:VEVENT
BEGIN:VEVENT
DTSTART;TZID=America/Chicago:20251025T173000
DTEND;TZID=America/Chicago:20251025T184500
DTSTAMP:20260422T170207
CREATED:20251011T123510Z
LAST-MODIFIED:20251011T123510Z
UID:5732-1761413400-1761417900@geneseo.org
SUMMARY:Spooktacular Rollerskating
DESCRIPTION:Wear your best costume for a Spooktacular Rollerskating at The Geneseo Community Center! Prizes given out for best costumes. Bring your own or rent skates from The Center.\n\n5:30 – 6:45 pm | AGES: 3rd Grade & under7:00 – 9:00 pm | AGES: All Ages\nSKATE RENTAL: $5.00 (Limited skates and sizes available)\n\nAdmission is FREE thank in part to: Geneseo Foundation and Geneseo Park District Foundation.
URL:https://geneseo.org/event/spooktacular-rollerskating/
LOCATION:Geneseo Park District\, 541 E. North St.\, Geneseo\, IL\, 61254\, United States
END:VEVENT
BEGIN:VEVENT
DTSTART;TZID=America/Chicago:20251025T150000
DTEND;TZID=America/Chicago:20251025T173000
DTSTAMP:20260422T170207
CREATED:20250927T134640Z
LAST-MODIFIED:20250927T134640Z
UID:5564-1761404400-1761413400@geneseo.org
SUMMARY:Brew & View: Hocus Pocus
DESCRIPTION:  \nIt’s just a bunch of Hocus Pocus!Join us for a wickedly fun afternoon onSaturday\, October 25th at 3pm\n\nDoors open at 2:30pm\nMovie: Hocus PocusAdmission: $5/persondrink: $5 a cup (GBC Beer & Seltzer)Concessions available at regular price\n\nMust be 21 or older to attend\nGrab your broomsticks\, gather your coven\, and sip while you watch the Sanderson Sisters stir up trouble.\n 
URL:https://geneseo.org/event/brew-view-hocus-pocus/
LOCATION:Geneseo Central Theater\, 111 N. State St.\, Geneseo\, IL\, 61254
END:VEVENT
BEGIN:VEVENT
DTSTART;TZID=America/Chicago:20251025T140000
DTEND;TZID=America/Chicago:20251025T153000
DTSTAMP:20260422T170207
CREATED:20250929T201454Z
LAST-MODIFIED:20250929T201454Z
UID:5646-1761400800-1761406200@geneseo.org
SUMMARY:Trick or Treating at Allure!
DESCRIPTION:  \nAllure of Geneseo will have Trick or Treating on Sat. Oct. 25th from 2 – 3:30 pm.   Rain or shine since it is indoors for our residents. \n 
URL:https://geneseo.org/event/trick-or-treating-at-allure/
LOCATION:Allure of Geneseo\, 704 S. Illinois Street\, Geneseo\, IL\, 61254
END:VEVENT
BEGIN:VEVENT
DTSTART;TZID=America/Chicago:20251025T110000
DTEND;TZID=America/Chicago:20251025T120000
DTSTAMP:20260422T170207
CREATED:20251007T163726Z
LAST-MODIFIED:20251007T163726Z
UID:5705-1761390000-1761393600@geneseo.org
SUMMARY:Geneseo's HOWL-O-WEEN Doggie Costume Pageant
DESCRIPTION:  \nIt’s time for Geneseo’s first ever HOWL-O-WEEN Doggie Costume Pageant! Happening during Geneseo‘s Scarecrow Row on Saturday October 25 at 11:00 am at the City Park Bandshell. Cost is $10 per dog to participate and proceeds go directly to the Henry County Humane Society of Geneseo. Donations will also be accepted for the Humane Society. Dress up your doggies and come join the Halloween fun! \n 
URL:https://geneseo.org/event/geneseos-howl-o-ween-doggie-costume-pageant/
LOCATION:Geneseo City Park\, 140 W. Pearl St.\, Geneseo\, IL\, 61254\, United States
END:VEVENT
BEGIN:VEVENT
DTSTART;TZID=America/Chicago:20251025T100000
DTEND;TZID=America/Chicago:20251025T160000
DTSTAMP:20260422T170207
CREATED:20250810T153627Z
LAST-MODIFIED:20250810T153627Z
UID:5405-1761386400-1761408000@geneseo.org
SUMMARY:Geneseo's Scarecrow Row 2025
DESCRIPTION:  \nScarecrow Row is Geneseo’s favorite Halloween tradition and returns to the Geneseo City Park on Saturday October 25\, 2025 from 10a-4p!\n\nAs a part of Geneseo’s Scarecrow Row\, children are invited to trick or treat at the Geneseo City Park among the Scarecrows from 10a-12p.\n\nGeneseo businesses and organizations will be at the park handing out candy to trick or treaters\, while a Halloween photo booth will be set up on the bandshell stage. GHS Silver Cord Volunteers are encouraged to sign up to help pass out candy to trick-or-treaters.\n\nThe trick-or-treating fun happens from 10a-12p\, but the scarecrows will be set up at the park until 4p – offering people a chance to get an up close look at the scarecrows without the crowds.\n 
URL:https://geneseo.org/event/geneseos-scarecrow-row-2025/
LOCATION:Geneseo City Park\, 140 W. Pearl St.\, Geneseo\, IL\, 61254\, United States
ORGANIZER;CN="Geneseo Chamber of Commerce":MAILTO:geneseo@geneseo.org
END:VEVENT
BEGIN:VEVENT
DTSTART;TZID=America/Chicago:20251025T100000
DTEND;TZID=America/Chicago:20251025T140000
DTSTAMP:20260422T170207
CREATED:20250927T135849Z
LAST-MODIFIED:20250927T135849Z
UID:5572-1761386400-1761400800@geneseo.org
SUMMARY:Trick or Treat at Dollar Fresh
DESCRIPTION:  \nTrick or treat with us! Bring the kids to your local Dollar Fresh Market to celebrate Halloween with candy\, costumes\, and spooky fun on Saturday\, Oct. 25\, from 10 a.m. – 2 p.m. We hope to see you there! \n 
URL:https://geneseo.org/event/trick-or-treat-at-dollar-fresh/
LOCATION:Dollar Fresh Market\, 2181 S. Oakwood Ave.\, Geneseo\, IL\, 61254
END:VEVENT
BEGIN:VEVENT
DTSTART;TZID=America/Chicago:20251025T100000
DTEND;TZID=America/Chicago:20251025T120000
DTSTAMP:20260422T170207
CREATED:20251023T181708Z
LAST-MODIFIED:20251023T181708Z
UID:5775-1761386400-1761393600@geneseo.org
SUMMARY:Trunk or Treat at Concordia Lutheran Church
DESCRIPTION:  \nOur friends at Concordia Lutheran Church in Geneseo will be hosting a Trunk or Treat event this Saturday October 25 from 10am -noon. Remember to stop by for some trick or treating fun on Saturday morning! \n 
URL:https://geneseo.org/event/trunk-or-treat-at-concordia-lutheran-church/
LOCATION:Concordia Lutheran Church\, 316 S. Oakwood Ave.\, Geneseo\, IL\, 61254\, United States
END:VEVENT
BEGIN:VEVENT
DTSTART;TZID=America/Chicago:20251025T090000
DTEND;TZID=America/Chicago:20251025T180000
DTSTAMP:20260422T170207
CREATED:20250917T191951Z
LAST-MODIFIED:20250917T191951Z
UID:5548-1761382800-1761415200@geneseo.org
SUMMARY:Atkinson Fall Festival
DESCRIPTION:  \n 
URL:https://geneseo.org/event/atkinson-fall-festival/
LOCATION:Atkinson Grade School\, 107 S. State St.\, Atkinson\, IL\, 61254\, United States
END:VEVENT
BEGIN:VEVENT
DTSTART;TZID=America/Chicago:20251025T080000
DTEND;TZID=America/Chicago:20251025T120000
DTSTAMP:20260422T170207
CREATED:20251014T182009Z
LAST-MODIFIED:20251014T182009Z
UID:5755-1761379200-1761393600@geneseo.org
SUMMARY:Halloween Howl at Heritage Tractor
DESCRIPTION:  \n \n  \nHeritage Tractor is thrilled to announce that all locations will be hosting a Halloween Howl event\non Saturday\, October 25\, from 8:00 am to noon. Bring your zombies\, dinos\, and princesses to\nyour local Heritage Tractor location for a morning of Halloween-themed fun! \n\nHeritage Tractor\, the local John Deere dealer\, is putting a twist on traditional trick-or-treating\nand instead inviting the community out for Trick-or-Tractor. The spooktacular event will feature\na costume contest with a chance to win a prize\, sweet treats\, and a photo station for children of\nall ages. Best of all\, Heritage Tractor will be giving away a free John Deere toy tractor to kids in\ncostume\, while supplies last. \n\nHeritage Tractor’s focus remains on supporting their coworkers\, customers\, and communities.\nThis event is a way to celebrate all of the hard work that goes into this harvest season and give\nback to the customers and communities. \n\nFind additional event details at www.facebook.com/events/1103173172003955\n \nAbout Heritage Tractor \n\nHeritage Tractor is a full-service John Deere dealership that provides agricultural and outdoor\nequipment as well as OEM parts and certified service. Our company was founded in 1998 and\ntoday is a leading John Deere dealer worldwide focused on our coworkers\, customers\, and the\ncommunities they serve. Today\, Heritage Tractor employs more than 1\,000 employees across 40\nlocations in Illinois\, Kansas\, Missouri\, and Arkansas
URL:https://geneseo.org/event/heritage-tractor-halloween-howl/
LOCATION:Heritage Tractor\, 939 US Hwy 6 E\, Geneseo\, IL\, 61254\, United States
END:VEVENT
BEGIN:VEVENT
DTSTART;TZID=America/Chicago:20251025T080000
DTEND;TZID=America/Chicago:20251025T120000
DTSTAMP:20260422T170207
CREATED:20250623T162205Z
LAST-MODIFIED:20250623T162205Z
UID:5201-1761379200-1761393600@geneseo.org
SUMMARY:Geneseo Farmer's Market
DESCRIPTION:  \nThe Geneseo Farmer’s Market is a local farmer’s market.\nOur summer market is located on Pearl Street at the City Park in Geneseo.\nWhen: Every Saturday\, June – October\nTime: 8 a.m. to 12 p.m. \n 
URL:https://geneseo.org/event/geneseo-farmers-market-40/
LOCATION:Geneseo City Park\, 140 W. Pearl St.\, Geneseo\, IL\, 61254\, United States
END:VEVENT
BEGIN:VEVENT
DTSTART;TZID=America/Chicago:20251024T170000
DTEND;TZID=America/Chicago:20251024T183000
DTSTAMP:20260422T170207
CREATED:20250927T140638Z
LAST-MODIFIED:20250927T140638Z
UID:5576-1761325200-1761330600@geneseo.org
SUMMARY:Haunt The Halls – Hosted by Geneseo FFA 
DESCRIPTION:  \nHaunt the Halls – Hosted by Geneseo FFA\n\nGet ready for a spooktacular night at Geneseo High School on October 24th! Join us for our FIRST annual Haunt the Halls event\, packed with fun\, frights\, and fall festivities for all ages.\n\nA few highlights include:\n\nWitches Brew & Trick-or-Treat Stations\nPhoto Booth & Spooky Photoshoots\nGlow-in-the-Dark Games\nPumpkin Decorating & Carnival-Style Games\n“What’s in the Box?” Mystery Challenge\nRadiator Springs–themed Challenges\nZombie Zone\n\nBring your family\, friends\, and best costumes for a safe\, fun\, and festive night indoors (away from that unpredictable October weather).\n\nThursday\, October 24thGeneseo High School\n 
URL:https://geneseo.org/event/haunt-the-halls-hosted-by-geneseo-ffa/
LOCATION:Geneseo High School\, 700 N. State St.\, Geneseo\, IL\, 61254\, United States
END:VEVENT
BEGIN:VEVENT
DTSTART;TZID=America/Chicago:20251024T160000
DTEND;TZID=America/Chicago:20251024T190000
DTSTAMP:20260422T170207
CREATED:20251014T181114Z
LAST-MODIFIED:20251014T181134Z
UID:5750-1761321600-1761332400@geneseo.org
SUMMARY:Durian Builders Cabinet Showroom Open House & Ribbon Cutting
DESCRIPTION:  \nJoin us on Friday October 24\, 2025 from 4:00 pm to 7:00 pm as we celebrate the Grand Opening of Durian Builders new Cabinet Showroom! The Showroom is located at 12751 Wolf Road. The Open House will be 4:00 pm to 7:00 pm\, with a Ribbon Cutting taking place at 5:00 pm. We hope to see you there! \n 
URL:https://geneseo.org/event/durian-builders-cabinet-showroom-open-house-ribbon-cutting/
LOCATION:Durian Builders Cabinet Showroom\, 12751 Wolf Road\, Geneseo\, IL\, 61254\, United States
END:VEVENT
END:VCALENDAR