BEGIN:VCALENDAR
VERSION:2.0
PRODID:-//Geneseo Chamber of Commerce - ECPv6.14.1//NONSGML v1.0//EN
CALSCALE:GREGORIAN
METHOD:PUBLISH
X-ORIGINAL-URL:https://geneseo.org
X-WR-CALDESC:Events for Geneseo Chamber of Commerce
REFRESH-INTERVAL;VALUE=DURATION:PT1H
X-Robots-Tag:noindex
X-PUBLISHED-TTL:PT1H
BEGIN:VTIMEZONE
TZID:America/Chicago
BEGIN:DAYLIGHT
TZOFFSETFROM:-0600
TZOFFSETTO:-0500
TZNAME:CDT
DTSTART:20240310T080000
END:DAYLIGHT
BEGIN:STANDARD
TZOFFSETFROM:-0500
TZOFFSETTO:-0600
TZNAME:CST
DTSTART:20241103T070000
END:STANDARD
END:VTIMEZONE
BEGIN:VEVENT
DTSTART;TZID=America/Chicago:20240717T140000
DTEND;TZID=America/Chicago:20240717T210000
DTSTAMP:20260425T233955
CREATED:20240715T212741Z
LAST-MODIFIED:20240715T212741Z
UID:4657-1721224800-1721250000@geneseo.org
SUMMARY:Arcadia Family Fun Center's 2nd Birthday Party!
DESCRIPTION:Arcadia Family Fun Center will be celebrating its 2nd birthday on Wednesday July 17th!!! Arcadia will be opening at 2 to celebrate with special events and pricing.  Join the celebration from 2-5 pm with $2 games and $2 shoe rental.  We will be playing bowling bingo\, red pin challenges\, and different bowling games!!
URL:https://geneseo.org/event/arcadia-family-fun-centers-2nd-birthday-party/
LOCATION:Arcadia Family Fun Center\, 925 S. Oakwood Ave.\, Geneseo\, IL\, 61254
END:VEVENT
BEGIN:VEVENT
DTSTART;TZID=America/Chicago:20240716T180000
DTEND;TZID=America/Chicago:20240716T200000
DTSTAMP:20260425T233955
CREATED:20240409T192319Z
LAST-MODIFIED:20240409T192319Z
UID:4437-1721152800-1721160000@geneseo.org
SUMMARY:Ice Cream Social at City Park
DESCRIPTION:Benefitting: Henry County Sheriffs Auxiliary \nMusic by: The Maple City Band
URL:https://geneseo.org/event/ice-cream-social-at-city-park-6/
LOCATION:Geneseo City Park\, 140 W. Pearl St.\, Geneseo\, IL\, 61254\, United States
END:VEVENT
BEGIN:VEVENT
DTSTART;VALUE=DATE:20240712
DTEND;VALUE=DATE:20240713
DTSTAMP:20260425T233955
CREATED:20231220T171410Z
LAST-MODIFIED:20240626T195823Z
UID:4063-1720742400-1720828799@geneseo.org
SUMMARY:Geneseo Chamber 2024 Golf Outing
DESCRIPTION:Save the Date: Friday\, July 12th\, 2024! \nThe Geneseo Chamber Golf Outing is a fun day of golf in support of the Geneseo Chamber. If you’re interested in putting in a team\, donating a raffle basket\, sponsoring a hole\, or being an event sponsor\, contact the Geneseo Chamber of Commerce.
URL:https://geneseo.org/event/geneseo-chamber-2024-golf-outing/
LOCATION:Sugar Maple Golf Club\, 19283 E 1600 Street\, Geneseo\, IL\, 61254\, United States
ORGANIZER;CN="Geneseo Chamber of Commerce":MAILTO:geneseo@geneseo.org
END:VEVENT
BEGIN:VEVENT
DTSTART;TZID=America/Chicago:20240710T190000
DTEND;TZID=America/Chicago:20240710T210000
DTSTAMP:20260425T233955
CREATED:20240409T220142Z
LAST-MODIFIED:20240409T220142Z
UID:4500-1720638000-1720645200@geneseo.org
SUMMARY:LIVE MUSIC - 3 On The Tree
DESCRIPTION:LIVE MUSIC – 3 On The Tree \nSafety Starts With YOU Event\, sponsored by: Henry County Farm Bureau
URL:https://geneseo.org/event/live-music-3-on-the-tree/
LOCATION:Central Bank Pavilion\, 218 N. State St.\, Geneseo\, IL\, 61254
END:VEVENT
BEGIN:VEVENT
DTSTART;TZID=America/Chicago:20240710T173000
DTEND;TZID=America/Chicago:20240710T190000
DTSTAMP:20260425T233955
CREATED:20240703T205516Z
LAST-MODIFIED:20240703T205516Z
UID:4630-1720632600-1720638000@geneseo.org
SUMMARY:Safety Starts With You presented by: Henry County Farm Bureau
DESCRIPTION:
URL:https://geneseo.org/event/safety-starts-with-you-presented-by-henry-county-farm-bureau/
LOCATION:Central Bank Pavilion\, 218 N. State St.\, Geneseo\, IL\, 61254
END:VEVENT
BEGIN:VEVENT
DTSTART;TZID=America/Chicago:20240709T180000
DTEND;TZID=America/Chicago:20240709T200000
DTSTAMP:20260425T233955
CREATED:20240409T192218Z
LAST-MODIFIED:20240409T192218Z
UID:4435-1720548000-1720555200@geneseo.org
SUMMARY:Ice Cream Social at City Park
DESCRIPTION:Benefitting: Henry County Humane Society \nMusic by: Maple City German Band
URL:https://geneseo.org/event/ice-cream-social-at-city-park-5/
LOCATION:Geneseo City Park\, 140 W. Pearl St.\, Geneseo\, IL\, 61254\, United States
END:VEVENT
BEGIN:VEVENT
DTSTART;TZID=America/Chicago:20240704T173000
DTEND;TZID=America/Chicago:20240704T220000
DTSTAMP:20260425T233955
CREATED:20240703T210224Z
LAST-MODIFIED:20240703T210224Z
UID:4641-1720114200-1720130400@geneseo.org
SUMMARY:Thrill on the Hill Fireworks
DESCRIPTION:
URL:https://geneseo.org/event/thrill-on-the-hill-fireworks/
LOCATION:Richmond Hill Park\, 600 HK Robinson Dr.\, Geneseo\, IL\, 61254\, United States
END:VEVENT
BEGIN:VEVENT
DTSTART;TZID=America/Chicago:20240704T130000
DTEND;TZID=America/Chicago:20240704T143000
DTSTAMP:20260425T233955
CREATED:20240703T210355Z
LAST-MODIFIED:20240703T210355Z
UID:4645-1720098000-1720103400@geneseo.org
SUMMARY:Maple City Band Fourth of July Concert
DESCRIPTION:
URL:https://geneseo.org/event/maple-city-band-fourth-of-july-concert/
LOCATION:Geneseo City Park\, 140 W. Pearl St.\, Geneseo\, IL\, 61254\, United States
END:VEVENT
BEGIN:VEVENT
DTSTART;TZID=America/Chicago:20240704T110000
DTEND;TZID=America/Chicago:20240704T140000
DTSTAMP:20260425T233955
CREATED:20240703T210051Z
LAST-MODIFIED:20240703T210051Z
UID:4636-1720090800-1720101600@geneseo.org
SUMMARY:Pork in the Park presented by: Geneseo Kiwanis Club
DESCRIPTION:
URL:https://geneseo.org/event/pork-in-the-park-presented-by-geneseo-kiwanis-club/
LOCATION:Geneseo City Park\, 140 W. Pearl St.\, Geneseo\, IL\, 61254\, United States
END:VEVENT
BEGIN:VEVENT
DTSTART;TZID=America/Chicago:20240704T070000
DTEND;TZID=America/Chicago:20240704T140000
DTSTAMP:20260425T233955
CREATED:20240703T205753Z
LAST-MODIFIED:20240703T205753Z
UID:4634-1720076400-1720101600@geneseo.org
SUMMARY:Geneseo Aisle of Flags
DESCRIPTION:The Aisle of Flags \nGeneseo City Park \nThursday\, July 4\, 2024 \n  \n906 flags will fly this July 4th representing 933 veterans. \n  \nFlags go up at 7:00 a.m. weather permitting \nFlags come down at 2:00 p.m.\n \n  \nIf the weather is threatening\, please check our Facebook Page at 6 am July 4th. \n  \nhttps://www.facebook.com/Aisleofflags
URL:https://geneseo.org/event/geneseo-aisle-of-flags-2/
LOCATION:Geneseo City Park\, 140 W. Pearl St.\, Geneseo\, IL\, 61254\, United States
END:VEVENT
BEGIN:VEVENT
DTSTART;TZID=America/Chicago:20240703T190000
DTEND;TZID=America/Chicago:20240703T210000
DTSTAMP:20260425T233955
CREATED:20240409T220021Z
LAST-MODIFIED:20240409T220021Z
UID:4498-1720033200-1720040400@geneseo.org
SUMMARY:LIVE MUSIC - Frankie Joe & Kinfolk
DESCRIPTION:LIVE MUSIC – Frankie Joe & Kinfolk
URL:https://geneseo.org/event/live-music-frankie-joe-kinfolk/
LOCATION:Central Bank Pavilion\, 218 N. State St.\, Geneseo\, IL\, 61254
END:VEVENT
BEGIN:VEVENT
DTSTART;TZID=America/Chicago:20240629T190000
DTEND;TZID=America/Chicago:20240629T220000
DTSTAMP:20260425T233955
CREATED:20240409T215509Z
LAST-MODIFIED:20240409T215509Z
UID:4488-1719687600-1719698400@geneseo.org
SUMMARY:LIVE MUSIC - Mo's Garage Band
DESCRIPTION:LIVE MUSIC – Mo’s Garage Band
URL:https://geneseo.org/event/live-music-mos-garage-band/
LOCATION:Central Bank Pavilion\, 218 N. State St.\, Geneseo\, IL\, 61254
END:VEVENT
BEGIN:VEVENT
DTSTART;TZID=America/Chicago:20240628T190000
DTEND;TZID=America/Chicago:20240628T220000
DTSTAMP:20260425T233955
CREATED:20240409T215421Z
LAST-MODIFIED:20240409T215421Z
UID:4486-1719601200-1719612000@geneseo.org
SUMMARY:LIVE MUSIC - Rodeo Drive Band
DESCRIPTION:LIVE MUSIC – Rodeo Drive Band
URL:https://geneseo.org/event/live-music-rodeo-drive-band/
LOCATION:Central Bank Pavilion\, 218 N. State St.\, Geneseo\, IL\, 61254
END:VEVENT
BEGIN:VEVENT
DTSTART;TZID=America/Chicago:20240626T190000
DTEND;TZID=America/Chicago:20240626T210000
DTSTAMP:20260425T233955
CREATED:20240416T132429Z
LAST-MODIFIED:20240416T132429Z
UID:4517-1719428400-1719435600@geneseo.org
SUMMARY:16th Annual Community Choir of Geneseo Concert
DESCRIPTION:The Community Choir of Geneseo will be celebrating their 16th annual concert entitled “Does It Matter?” on Wednesday\, June 26 at 7 p.m. in the Geneseo HS Concert Hall. The Community Choir includes those entering 8th grade and older adults. They rehearse on Wednesday evenings from 6:30- 8 p.m. beginning Wednesday May 29 thru June 19 in the Geneseo HS Concert Hall. Repertoire includes  “Do You Hear the People Sing?”\, “Memory” and  “Bridge Over Troubled Waters” . If you are interested in singing\, please call Pam Edwards\, the director at 309-944-6641 or email (singplay53@gmail.com) by May 3. \nStudents entering grades 4-7 are invited to sing in the Children’s Choir. They will rehearse June 20\,21\,24\,25\,26. Registration forms are available through the Geneseo elementary and middle school choir instructors or contact Pam Edwards. The deadline to register is May 3. Repertoire includes “Play for me a simple melody” and a “Mary Poppins Medley”. \nCombined choirs will sing “”Joyful\, Joyful We Adore Thee”\, “Sing\, Sing\, Sing”\, “Earth Song” and “God Bless the USA”. \nAdmission for the concert is $5.00 for K-12; $7.00 for ages 18 and older; free for children\nunder age 5.
URL:https://geneseo.org/event/16th-annual-community-choir-of-geneseo-concert/
LOCATION:GHS Performing Arts Center\, 700 N. State St.\, Geneseo\, IL\, 61254\, United States
END:VEVENT
BEGIN:VEVENT
DTSTART;TZID=America/Chicago:20240625T180000
DTEND;TZID=America/Chicago:20240625T200000
DTSTAMP:20260425T233955
CREATED:20240409T191658Z
LAST-MODIFIED:20240409T191658Z
UID:4433-1719338400-1719345600@geneseo.org
SUMMARY:Ice Cream Social at City Park
DESCRIPTION:Benefitting: Geneseo Performing Arts Council (GPAC) \nMusic by: Geneseo Middle School Band
URL:https://geneseo.org/event/ice-cream-social-at-city-park-4/
LOCATION:Geneseo City Park\, 140 W. Pearl St.\, Geneseo\, IL\, 61254\, United States
END:VEVENT
BEGIN:VEVENT
DTSTART;TZID=America/Chicago:20240620T190000
DTEND;TZID=America/Chicago:20240620T210000
DTSTAMP:20260425T233955
CREATED:20231220T200403Z
LAST-MODIFIED:20231220T200403Z
UID:4120-1718910000-1718917200@geneseo.org
SUMMARY:Patriotic Painting at Smith Studio and Gallery
DESCRIPTION:
URL:https://geneseo.org/event/patriotic-painting-at-smith-studio-and-gallery/
LOCATION:Smith Studio and Gallery 124 S. State St.
END:VEVENT
BEGIN:VEVENT
DTSTART;TZID=America/Chicago:20240620T080000
DTEND;TZID=America/Chicago:20240622T170000
DTSTAMP:20260425T233955
CREATED:20231220T171135Z
LAST-MODIFIED:20231220T171135Z
UID:4061-1718870400-1719075600@geneseo.org
SUMMARY:Women's Weekend Out in Geneseo!
DESCRIPTION:Join us in Geneseo\, June 20-22nd\, 2024 for a woman’s weekend\, with great retail deals\, amazing restaurants\, and excellent entertainment! \nMore details to come! \nhttps://geneseo.org/wp-content/uploads/2023/12/2024-Events.mp4
URL:https://geneseo.org/event/womens-weekend-out-in-geneseo/
LOCATION:Geneseo\, IL
ORGANIZER;CN="Geneseo Chamber of Commerce":MAILTO:geneseo@geneseo.org
END:VEVENT
BEGIN:VEVENT
DTSTART;TZID=America/Chicago:20240618T180000
DTEND;TZID=America/Chicago:20240618T200000
DTSTAMP:20260425T233955
CREATED:20240409T191503Z
LAST-MODIFIED:20240409T192035Z
UID:4431-1718733600-1718740800@geneseo.org
SUMMARY:Ice Cream Social at City Park
DESCRIPTION:Benefitting: Geneseo Quilt Guild \nMusic by: The Maple City Band
URL:https://geneseo.org/event/ice-cream-social-at-city-park-3/
LOCATION:Geneseo City Park\, 140 W. Pearl St.\, Geneseo\, IL\, 61254\, United States
END:VEVENT
BEGIN:VEVENT
DTSTART;TZID=America/Chicago:20240614T193000
DTEND;TZID=America/Chicago:20240614T213000
DTSTAMP:20260425T233955
CREATED:20240409T215329Z
LAST-MODIFIED:20240409T215329Z
UID:4484-1718393400-1718400600@geneseo.org
SUMMARY:LIVE MUSIC - Fun Pianos - Dueling Pianos
DESCRIPTION:LIVE MUSIC – Fun Pianos – Dueling Pianos
URL:https://geneseo.org/event/live-music-fun-pianos-dueling-pianos/
LOCATION:Central Bank Pavilion\, 218 N. State St.\, Geneseo\, IL\, 61254
END:VEVENT
BEGIN:VEVENT
DTSTART;VALUE=DATE:20240614
DTEND;VALUE=DATE:20240617
DTSTAMP:20260425T233955
CREATED:20231220T165213Z
LAST-MODIFIED:20240129T200117Z
UID:4058-1718323200-1718582399@geneseo.org
SUMMARY:2024 Geneseo Music Festival
DESCRIPTION:Geneseo’s longest running annual festival enters its 56th year in 2024! Join us for free summertime fun on June 14 – 16\, 2024 on Father’s Day Weekend in Geneseo for the Music Fest Queen Pageant\, parades\, cookouts\, live music\, craft vendors\, food trucks\, kids activities and more!\n\nFor more information about the 2024 Geneseo Music Festival\, visit the event page HERE.
URL:https://geneseo.org/event/2024-geneseo-music-festival/
LOCATION:Geneseo City Park and Downtown Geneseo
ORGANIZER;CN="Geneseo Chamber of Commerce":MAILTO:geneseo@geneseo.org
END:VEVENT
BEGIN:VEVENT
DTSTART;TZID=America/Chicago:20240611T180000
DTEND;TZID=America/Chicago:20240611T200000
DTSTAMP:20260425T233955
CREATED:20240409T191411Z
LAST-MODIFIED:20240409T192103Z
UID:4429-1718128800-1718136000@geneseo.org
SUMMARY:Ice Cream Social at City Park
DESCRIPTION:Benefitting: Izaak Walton League Geneseo Chapter \nMusic By: The Maple City Band
URL:https://geneseo.org/event/ice-cream-social-at-city-park-2/
LOCATION:Geneseo City Park\, 140 W. Pearl St.\, Geneseo\, IL\, 61254\, United States
END:VEVENT
BEGIN:VEVENT
DTSTART;TZID=America/Chicago:20240609T150000
DTEND;TZID=America/Chicago:20240609T170000
DTSTAMP:20260425T233955
CREATED:20240409T201259Z
LAST-MODIFIED:20240409T201259Z
UID:4478-1717945200-1717952400@geneseo.org
SUMMARY:Laura
DESCRIPTION:May 30-June 2 & June 6-9 \nLaura A mystery by Vera Caspary & George Skylar \nBased on a novel by Vera Caspary \nRichmond Hill Players Barn Theatre\, 600 H K Robinson Dr\, Geneseo \nThurs-Sat at 7:30pm; Sundays at 3pm.  Admission $12 \n rhplayers.com             309-944-2244
URL:https://geneseo.org/event/laura-8/
LOCATION:Richmond Hill Barn Theater\, 600 H.K. Robinson Drive\, Geneseo\, IL\, 61254\, United States
END:VEVENT
BEGIN:VEVENT
DTSTART;TZID=America/Chicago:20240608T193000
DTEND;TZID=America/Chicago:20240608T213000
DTSTAMP:20260425T233955
CREATED:20240409T201224Z
LAST-MODIFIED:20240409T201224Z
UID:4476-1717875000-1717882200@geneseo.org
SUMMARY:Laura
DESCRIPTION:May 30-June 2 & June 6-9 \nLaura A mystery by Vera Caspary & George Skylar \nBased on a novel by Vera Caspary \nRichmond Hill Players Barn Theatre\, 600 H K Robinson Dr\, Geneseo \nThurs-Sat at 7:30pm; Sundays at 3pm.  Admission $12 \n rhplayers.com             309-944-2244
URL:https://geneseo.org/event/laura-7/
LOCATION:Richmond Hill Barn Theater\, 600 H.K. Robinson Drive\, Geneseo\, IL\, 61254\, United States
END:VEVENT
BEGIN:VEVENT
DTSTART;TZID=America/Chicago:20240607T193000
DTEND;TZID=America/Chicago:20240607T213000
DTSTAMP:20260425T233955
CREATED:20240409T201119Z
LAST-MODIFIED:20240409T201119Z
UID:4474-1717788600-1717795800@geneseo.org
SUMMARY:Laura
DESCRIPTION:May 30-June 2 & June 6-9 \nLaura A mystery by Vera Caspary & George Skylar \nBased on a novel by Vera Caspary \nRichmond Hill Players Barn Theatre\, 600 H K Robinson Dr\, Geneseo \nThurs-Sat at 7:30pm; Sundays at 3pm.  Admission $12 \n rhplayers.com             309-944-2244
URL:https://geneseo.org/event/laura-6/
LOCATION:Richmond Hill Barn Theater\, 600 H.K. Robinson Drive\, Geneseo\, IL\, 61254\, United States
END:VEVENT
BEGIN:VEVENT
DTSTART;TZID=America/Chicago:20240606T200000
DTEND;TZID=America/Chicago:20240606T213000
DTSTAMP:20260425T233955
CREATED:20231220T164841Z
LAST-MODIFIED:20240605T192117Z
UID:4055-1717704000-1717709400@geneseo.org
SUMMARY:Geneseo Mural Project Mural #4 Projection Party
DESCRIPTION:Join us June 6th for the projection party of the 4th mural by the Geneseo Mural Project and Geneseo Chamber of Commerce! \nhttps://geneseo.org/wp-content/uploads/2023/12/Pink-Blank-Canvas-Paint-Stroke-Quote-Instagram-Story-Post-Template-.mp4\nThank you to our Mural sponsors and supporters! \n\nGeneseo Foundation\nDennis and Jane Reese Family Foundation\nCentral Bank Illinois\nBetty Miller Foundation\nRotary Club of Geneseo\nFarmers National Bank\nHanford Insurance\nPegasus Fine Gifts\nGeneseo Communications Foundation\nSmith Studio & Gallery\nJW Shooting Parlor\nCity of Geneseo\nAll in Stitches\nMusical Memories\nCIC YOUR Digital Print Center\, LLC\nCat White\, Artist\nCentral Schoolhouse\nGeneseo Communications\nFirst Lutheran Church\nJim Nyland Photography\nFreedom Barricade Services\nKrios Engraving\nTower Rental\nSmith Studio and Gallery\nRutabaga Art\nThe Carbiener Family\nC&S Antique Mall\nGeneseo Historical Museum\nThe Neumann Foundation
URL:https://geneseo.org/event/geneseo-mural-project-mural-4-projection-party/
LOCATION:Geneseo\, IL
END:VEVENT
BEGIN:VEVENT
DTSTART;TZID=America/Chicago:20240606T193000
DTEND;TZID=America/Chicago:20240606T213000
DTSTAMP:20260425T233955
CREATED:20240409T201049Z
LAST-MODIFIED:20240409T201049Z
UID:4472-1717702200-1717709400@geneseo.org
SUMMARY:Laura
DESCRIPTION:May 30-June 2 & June 6-9 \nLaura A mystery by Vera Caspary & George Skylar \nBased on a novel by Vera Caspary \nRichmond Hill Players Barn Theatre\, 600 H K Robinson Dr\, Geneseo \nThurs-Sat at 7:30pm; Sundays at 3pm.  Admission $12 \n rhplayers.com             309-944-2244
URL:https://geneseo.org/event/laura-5/
LOCATION:Richmond Hill Barn Theater\, 600 H.K. Robinson Drive\, Geneseo\, IL\, 61254\, United States
END:VEVENT
BEGIN:VEVENT
DTSTART;TZID=America/Chicago:20240604T180000
DTEND;TZID=America/Chicago:20240604T200000
DTSTAMP:20260425T233955
CREATED:20240409T191249Z
LAST-MODIFIED:20240409T191249Z
UID:4427-1717524000-1717531200@geneseo.org
SUMMARY:Ice Cream Social at City Park
DESCRIPTION:Sponsored by: Geneseo Communications \nBenefitting: Geneseo Aisle of Flags \nMusic by: The Maple City Band
URL:https://geneseo.org/event/ice-cream-social-at-city-park/
LOCATION:Geneseo City Park\, 140 W. Pearl St.\, Geneseo\, IL\, 61254\, United States
END:VEVENT
BEGIN:VEVENT
DTSTART;TZID=America/Chicago:20240602T150000
DTEND;TZID=America/Chicago:20240602T170000
DTSTAMP:20260425T233955
CREATED:20240409T201013Z
LAST-MODIFIED:20240409T201013Z
UID:4470-1717340400-1717347600@geneseo.org
SUMMARY:Laura
DESCRIPTION:May 30-June 2 & June 6-9 \nLaura A mystery by Vera Caspary & George Skylar \nBased on a novel by Vera Caspary \nRichmond Hill Players Barn Theatre\, 600 H K Robinson Dr\, Geneseo \nThurs-Sat at 7:30pm; Sundays at 3pm.  Admission $12 \n rhplayers.com             309-944-2244
URL:https://geneseo.org/event/laura-4/
LOCATION:Richmond Hill Barn Theater\, 600 H.K. Robinson Drive\, Geneseo\, IL\, 61254\, United States
END:VEVENT
BEGIN:VEVENT
DTSTART;TZID=America/Chicago:20240601T193000
DTEND;TZID=America/Chicago:20240601T213000
DTSTAMP:20260425T233955
CREATED:20240409T200935Z
LAST-MODIFIED:20240409T200935Z
UID:4468-1717270200-1717277400@geneseo.org
SUMMARY:Laura
DESCRIPTION:May 30-June 2 & June 6-9 \nLaura A mystery by Vera Caspary & George Skylar \nBased on a novel by Vera Caspary \nRichmond Hill Players Barn Theatre\, 600 H K Robinson Dr\, Geneseo \nThurs-Sat at 7:30pm; Sundays at 3pm.  Admission $12 \n rhplayers.com             309-944-2244
URL:https://geneseo.org/event/laura-3/
LOCATION:Richmond Hill Barn Theater\, 600 H.K. Robinson Drive\, Geneseo\, IL\, 61254\, United States
END:VEVENT
BEGIN:VEVENT
DTSTART;TZID=America/Chicago:20240531T193000
DTEND;TZID=America/Chicago:20240531T213000
DTSTAMP:20260425T233955
CREATED:20240409T200855Z
LAST-MODIFIED:20240409T200855Z
UID:4466-1717183800-1717191000@geneseo.org
SUMMARY:Laura
DESCRIPTION:May 30-June 2 & June 6-9 \nLaura A mystery by Vera Caspary & George Skylar \nBased on a novel by Vera Caspary \nRichmond Hill Players Barn Theatre\, 600 H K Robinson Dr\, Geneseo \nThurs-Sat at 7:30pm; Sundays at 3pm.  Admission $12 \n rhplayers.com             309-944-2244
URL:https://geneseo.org/event/laura-2/
LOCATION:Richmond Hill Barn Theater\, 600 H.K. Robinson Drive\, Geneseo\, IL\, 61254\, United States
END:VEVENT
END:VCALENDAR