BEGIN:VCALENDAR
VERSION:2.0
PRODID:-//Geneseo Chamber of Commerce - ECPv6.14.1//NONSGML v1.0//EN
CALSCALE:GREGORIAN
METHOD:PUBLISH
X-WR-CALNAME:Geneseo Chamber of Commerce
X-ORIGINAL-URL:https://geneseo.org
X-WR-CALDESC:Events for Geneseo Chamber of Commerce
REFRESH-INTERVAL;VALUE=DURATION:PT1H
X-Robots-Tag:noindex
X-PUBLISHED-TTL:PT1H
BEGIN:VTIMEZONE
TZID:America/Chicago
BEGIN:DAYLIGHT
TZOFFSETFROM:-0600
TZOFFSETTO:-0500
TZNAME:CDT
DTSTART:20240310T080000
END:DAYLIGHT
BEGIN:STANDARD
TZOFFSETFROM:-0500
TZOFFSETTO:-0600
TZNAME:CST
DTSTART:20241103T070000
END:STANDARD
END:VTIMEZONE
BEGIN:VEVENT
DTSTART;TZID=America/Chicago:20241004T193000
DTEND;TZID=America/Chicago:20241004T213000
DTSTAMP:20260425T202656
CREATED:20240903T204603Z
LAST-MODIFIED:20240903T204603Z
UID:4730-1728070200-1728077400@geneseo.org
SUMMARY:The Richmond Hill Players present: Of Mice and Men
DESCRIPTION:Two drifters\, George and his friend Lennie\, with dreams of living off the “fat of the land\,” arrive at a ranch\, hoping to work for enough money to buy their own place. Lennie is a man-child\, a little boy in the body of a dangerously powerful man. His obsessions with things soft and cuddly have made George cautious about who the gentle giant\, with his brute strength\, associates with. George’s promise to let Lennie “tend to the rabbits” on their future homestead helps to keep Lennie calm\, as the overgrown child needs constant reassurance. But the ranch owner’s son is a brutal bully with a promiscuous wife\, and Lennie’s encounters with them lead to tragic results. Realizing they can’t run away anymore\, George is faced with a moral question: how should he deal with Lennie before the ranchers find him and take matters into their own hands?
URL:https://geneseo.org/event/the-richmond-hill-players-present-of-mice-and-men-2/
LOCATION:Richmond Hill Barn Theater\, 600 H.K. Robinson Drive\, Geneseo\, IL\, 61254\, United States
END:VEVENT
BEGIN:VEVENT
DTSTART;TZID=America/Chicago:20241004T193000
DTEND;TZID=America/Chicago:20241004T213000
DTSTAMP:20260425T202656
CREATED:20240409T215929Z
LAST-MODIFIED:20240409T215929Z
UID:4496-1728070200-1728077400@geneseo.org
SUMMARY:LIVE MUSIC - Cody Calkins
DESCRIPTION:LIVE MUSIC – Cody Calkins
URL:https://geneseo.org/event/live-music-cody-calkins/
LOCATION:Central Bank Pavilion\, 218 N. State St.\, Geneseo\, IL\, 61254
END:VEVENT
BEGIN:VEVENT
DTSTART;TZID=America/Chicago:20241003T193000
DTEND;TZID=America/Chicago:20241003T213000
DTSTAMP:20260425T202656
CREATED:20240903T204439Z
LAST-MODIFIED:20240903T204633Z
UID:4727-1727983800-1727991000@geneseo.org
SUMMARY:The Richmond Hill Players present: Of Mice and Men
DESCRIPTION:Two drifters\, George and his friend Lennie\, with dreams of living off the “fat of the land\,” arrive at a ranch\, hoping to work for enough money to buy their own place. Lennie is a man-child\, a little boy in the body of a dangerously powerful man. His obsessions with things soft and cuddly have made George cautious about who the gentle giant\, with his brute strength\, associates with. George’s promise to let Lennie “tend to the rabbits” on their future homestead helps to keep Lennie calm\, as the overgrown child needs constant reassurance. But the ranch owner’s son is a brutal bully with a promiscuous wife\, and Lennie’s encounters with them lead to tragic results. Realizing they can’t run away anymore\, George is faced with a moral question: how should he deal with Lennie before the ranchers find him and take matters into their own hands? John Steinbeck’s classic American tale.
URL:https://geneseo.org/event/the-richmond-hill-players-present-of-mice-and-men/
LOCATION:Richmond Hill Barn Theater\, 600 H.K. Robinson Drive\, Geneseo\, IL\, 61254\, United States
END:VEVENT
BEGIN:VEVENT
DTSTART;TZID=America/Chicago:20240925T073000
DTEND;TZID=America/Chicago:20240925T090000
DTSTAMP:20260425T202656
CREATED:20240827T194517Z
LAST-MODIFIED:20240827T194517Z
UID:4722-1727249400-1727254800@geneseo.org
SUMMARY:Connections Over Coffee
DESCRIPTION:
URL:https://geneseo.org/event/connections-over-coffee/
LOCATION:Central Schoolhouse\, 115 E. North St.\, Geneseo\, IL\, 61254\, United States
END:VEVENT
BEGIN:VEVENT
DTSTART;TZID=America/Chicago:20240921T150000
DTEND;TZID=America/Chicago:20240921T190000
DTSTAMP:20260425T202656
CREATED:20240823T192744Z
LAST-MODIFIED:20240823T192744Z
UID:4709-1726930800-1726945200@geneseo.org
SUMMARY:Feeding Purpose Benefit
DESCRIPTION:At the 2024 Feeding Purpose Benefit\, we invite you to help build a secure future by supporting our organization\, allowing us to expand our reach. \nYour investment as a Benefit Sponsor will connect more families\, providing them with the security they deserve and easing the burdens on their households. \nAs a sponsor\, you’ll gain an immersive insight into our work and have the opportunity to make a profound impact. 100% of the funds raised through the Feeding Purpose Benefit go directly to our programs; none of it is used to cover the event costs. \nWe can’t wait for you to join us on this powerful day of impact! \nLearn more about Sponsorship Opportunities HERE. \nFor more information about the Feeding Purpose Benefit and The Army Of The Kind\, Visit: https://www.aotk.org/ 
URL:https://geneseo.org/event/feeding-purpose-benefit/
LOCATION:Whispering Pines Geneseo\, 23590 Grange Rd.\, Geneseo\, IL\, 61254
END:VEVENT
BEGIN:VEVENT
DTSTART;TZID=America/Chicago:20240921T100000
DTEND;TZID=America/Chicago:20240921T150000
DTSTAMP:20260425T202656
CREATED:20240826T211949Z
LAST-MODIFIED:20240826T211949Z
UID:4715-1726912800-1726930800@geneseo.org
SUMMARY:John Laue Memorial Scholarship Consignment Sale
DESCRIPTION:
URL:https://geneseo.org/event/john-laue-memorial-scholarship-consignment-sale-2/
LOCATION:Stewart Lodge #92\, 313 West Elk St.\, GENESEO\, IL\, 61254\, United States
END:VEVENT
BEGIN:VEVENT
DTSTART;TZID=America/Chicago:20240914T080000
DTEND;TZID=America/Chicago:20240914T170000
DTSTAMP:20260425T202656
CREATED:20240530T154647Z
LAST-MODIFIED:20240530T154647Z
UID:4569-1726300800-1726333200@geneseo.org
SUMMARY:Vintage Farm Equipment Show
DESCRIPTION:
URL:https://geneseo.org/event/vintage-farm-equipment-show-2/
LOCATION:Bridge Park\, 19030 E. 2120 Street (Rock Island Ave.)\, Atkinson\, IL\, 61235\, United States
END:VEVENT
BEGIN:VEVENT
DTSTART;VALUE=DATE:20240912
DTEND;VALUE=DATE:20240915
DTSTAMP:20260425T202656
CREATED:20231220T190413Z
LAST-MODIFIED:20240912T165618Z
UID:4080-1726099200-1726358399@geneseo.org
SUMMARY:2024 Fall City-Wide Garage Sales in Geneseo
DESCRIPTION:Join us September 12-14\, 2024 for the Fall City-Wide Garage Sales in Geneseo! \nDownload a printable list of the garage sales HERE: https://www.dalcontodd.com/sales.pdf \nNavigate the garage sales with this interactive Google Map: https://www.google.com/maps/d/u/0/edit?mid=1x1uvlBbtskf2Cgk0kY6lj2oBV8AnKgQ&usp=sharing
URL:https://geneseo.org/event/2024-fall-city-wide-garage-sales-in-geneseo/
LOCATION:Geneseo\, IL
ORGANIZER;CN="Geneseo Chamber of Commerce":MAILTO:geneseo@geneseo.org
END:VEVENT
BEGIN:VEVENT
DTSTART;VALUE=DATE:20240907
DTEND;VALUE=DATE:20240908
DTSTAMP:20260425T202656
CREATED:20231220T190216Z
LAST-MODIFIED:20231220T190216Z
UID:4078-1725667200-1725753599@geneseo.org
SUMMARY:Trains\, Planes\, and Automobiles Car Show 2024
DESCRIPTION:The Geneseo Chamber of Commerce\, Maple City Cruisers\, Gen-Airpark and the Geneseo Model Railroaders announce the 18th Annual Trains\, Planes & Automobiles Festival\, taking place on September 5-7\, 2024. The Maple City Cruiser’s popular downtown car show is scheduled for Saturday September 7\, 2024. Stay tuned for more details!\n\nTHURSDAY SEPTEMBER 5\, 2024\n11:00 am – 2:00 pm: Stearman Bi-Plane Fly-In at Gen-Air Park\nFRIDAY SEPTEMBER 6\, 2024\n9:00 am – 3:00 pm: Cruise the Canal – Guided golf cart tours of the Hennepin Canal State Parkway\nSATURDAY SEPTEMBER 7\, 2024\n9:00 am – 3:00 pm: 17th Annual Maple City Cruisers Car Show – Downtown Geneseo\n12:00 pm: TPA Salute to Veterans\, featuring VFW Honor Guard\, Downtown Fly-Over\, 21-Gun Salute and National Anthem performance.\n2:00 pm: Car Show Trophy Winners Announced\, Geneseo Chamber’s Annual 50/50 Raffle is drawn and winner announced.\n3:00 pm – 6:00 pm: TPA After Party – LIVE MUSIC TBA
URL:https://geneseo.org/event/trains-planes-and-automobiles-car-show-2024/
LOCATION:Geneseo\, IL
ORGANIZER;CN="Geneseo Chamber of Commerce":MAILTO:geneseo@geneseo.org
END:VEVENT
BEGIN:VEVENT
DTSTART;VALUE=DATE:20240906
DTEND;VALUE=DATE:20240907
DTSTAMP:20260425T202656
CREATED:20231220T190057Z
LAST-MODIFIED:20231220T190057Z
UID:4075-1725580800-1725667199@geneseo.org
SUMMARY:Trains\, Planes\, and Automobiles Cruise the Canal Tours 2024
DESCRIPTION:The Geneseo Chamber of Commerce\, Maple City Cruisers\, Gen-Airpark and the Geneseo Model Railroaders announce the 18th Annual Trains\, Planes & Automobiles Festival\, taking place on September 5-7\, 2024. The Maple City Cruiser’s popular downtown car show is scheduled for Saturday September 7\, 2024. Stay tuned for more details!\n\nTHURSDAY SEPTEMBER 5\, 2024\n11:00 am – 2:00 pm: Stearman Bi-Plane Fly-In at Gen-Air Park\nFRIDAY SEPTEMBER 6\, 2024\n9:00 am – 3:00 pm: Cruise the Canal – Guided golf cart tours of the Hennepin Canal State Parkway\nSATURDAY SEPTEMBER 7\, 2024\n9:00 am – 3:00 pm: 17th Annual Maple City Cruisers Car Show – Downtown Geneseo\n12:00 pm: TPA Salute to Veterans\, featuring VFW Honor Guard\, Downtown Fly-Over\, 21-Gun Salute and National Anthem performance.\n2:00 pm: Car Show Trophy Winners Announced\, Geneseo Chamber’s Annual 50/50 Raffle is drawn and winner announced.\n3:00 pm – 6:00 pm: TPA After Party – LIVE MUSIC TBA
URL:https://geneseo.org/event/trains-planes-and-automobiles-cruise-the-canal-tours-2024/
LOCATION:Hennepin Canal State Parkway Lock #24
ORGANIZER;CN="Geneseo Chamber of Commerce":MAILTO:geneseo@geneseo.org
END:VEVENT
BEGIN:VEVENT
DTSTART;TZID=America/Chicago:20240905T110000
DTEND;TZID=America/Chicago:20240905T140000
DTSTAMP:20260425T202656
CREATED:20231220T185955Z
LAST-MODIFIED:20231220T190118Z
UID:4073-1725534000-1725544800@geneseo.org
SUMMARY:Trains\, Planes\, and Automobiles Stearman Fly-In at Gen-Airpark 2024
DESCRIPTION:The Geneseo Chamber of Commerce\, Maple City Cruisers\, Gen-Airpark and the Geneseo Model Railroaders announce the 18th Annual Trains\, Planes & Automobiles Festival\, taking place on September 5-7\, 2024. The Maple City Cruiser’s popular downtown car show is scheduled for Saturday September 7\, 2024. Stay tuned for more details!\n\nTHURSDAY SEPTEMBER 5\, 2024\n11:00 am – 2:00 pm: Stearman Bi-Plane Fly-In at Gen-Air Park\nFRIDAY SEPTEMBER 6\, 2024\n9:00 am – 3:00 pm: Cruise the Canal – Guided golf cart tours of the Hennepin Canal State Parkway\nSATURDAY SEPTEMBER 7\, 2024\n9:00 am – 3:00 pm: 17th Annual Maple City Cruisers Car Show – Downtown Geneseo\n12:00 pm: TPA Salute to Veterans\, featuring VFW Honor Guard\, Downtown Fly-Over\, 21-Gun Salute and National Anthem performance.\n2:00 pm: Car Show Trophy Winners Announced\, Geneseo Chamber’s Annual 50/50 Raffle is drawn and winner announced.\n3:00 pm – 6:00 pm: TPA After Party – LIVE MUSIC TBA
URL:https://geneseo.org/event/trains-planes-and-automobiles-stearman-fly-in-at-gen-airpark/
LOCATION:Gen Airpark\, 20028 E. 1650th St.\, Geneseo\, IL\, 61254\, United States
ORGANIZER;CN="Geneseo Chamber of Commerce":MAILTO:geneseo@geneseo.org
END:VEVENT
BEGIN:VEVENT
DTSTART;TZID=America/Chicago:20240825T150000
DTEND;TZID=America/Chicago:20240825T180000
DTSTAMP:20260425T202656
CREATED:20240812T164142Z
LAST-MODIFIED:20240812T164142Z
UID:4699-1724598000-1724608800@geneseo.org
SUMMARY:The Richmond Hill Players present: The Money In Uncle George's Suitcase
DESCRIPTION:When Uncle George invites his whole family up for a weekend of fun at his rustic cabin\, he actually wants them together so he can read his will. But between the bequeathing and his rambling stories\, George drops the bomb that somewhere on the property is a suitcase holding four hundred and eighty thousand dollars! What follows is a hilarious farce of pettiness\, slander\, and greed. The relatives end up wrestling each other\, falling down the stairs\, and getting stuck in the furniture. “Yep\, we’re gonna have lots of fun!” says George as he’s seen carrying a shovel out the front door. But George’s gift is much more important than mere money\, even though the relatives don’t see it that way – at first.
URL:https://geneseo.org/event/the-richmond-hill-players-present-the-money-in-uncle-georges-suitcase-8/
LOCATION:Richmond Hill Barn Theater\, 600 H.K. Robinson Drive\, Geneseo\, IL\, 61254\, United States
END:VEVENT
BEGIN:VEVENT
DTSTART;TZID=America/Chicago:20240824T193000
DTEND;TZID=America/Chicago:20240824T220000
DTSTAMP:20260425T202656
CREATED:20240812T164042Z
LAST-MODIFIED:20240812T164042Z
UID:4697-1724527800-1724536800@geneseo.org
SUMMARY:The Richmond Hill Players present: The Money In Uncle George's Suitcase
DESCRIPTION:When Uncle George invites his whole family up for a weekend of fun at his rustic cabin\, he actually wants them together so he can read his will. But between the bequeathing and his rambling stories\, George drops the bomb that somewhere on the property is a suitcase holding four hundred and eighty thousand dollars! What follows is a hilarious farce of pettiness\, slander\, and greed. The relatives end up wrestling each other\, falling down the stairs\, and getting stuck in the furniture. “Yep\, we’re gonna have lots of fun!” says George as he’s seen carrying a shovel out the front door. But George’s gift is much more important than mere money\, even though the relatives don’t see it that way – at first.
URL:https://geneseo.org/event/the-richmond-hill-players-present-the-money-in-uncle-georges-suitcase-7/
LOCATION:Richmond Hill Barn Theater\, 600 H.K. Robinson Drive\, Geneseo\, IL\, 61254\, United States
END:VEVENT
BEGIN:VEVENT
DTSTART;TZID=America/Chicago:20240823T193000
DTEND;TZID=America/Chicago:20240823T220000
DTSTAMP:20260425T202656
CREATED:20240812T163939Z
LAST-MODIFIED:20240812T163939Z
UID:4695-1724441400-1724450400@geneseo.org
SUMMARY:The Richmond Hill Players present: The Money In Uncle George's Suitcase
DESCRIPTION:When Uncle George invites his whole family up for a weekend of fun at his rustic cabin\, he actually wants them together so he can read his will. But between the bequeathing and his rambling stories\, George drops the bomb that somewhere on the property is a suitcase holding four hundred and eighty thousand dollars! What follows is a hilarious farce of pettiness\, slander\, and greed. The relatives end up wrestling each other\, falling down the stairs\, and getting stuck in the furniture. “Yep\, we’re gonna have lots of fun!” says George as he’s seen carrying a shovel out the front door. But George’s gift is much more important than mere money\, even though the relatives don’t see it that way – at first.
URL:https://geneseo.org/event/the-richmond-hill-players-present-the-money-in-uncle-georges-suitcase-6/
LOCATION:Richmond Hill Barn Theater\, 600 H.K. Robinson Drive\, Geneseo\, IL\, 61254\, United States
END:VEVENT
BEGIN:VEVENT
DTSTART;TZID=America/Chicago:20240822T193000
DTEND;TZID=America/Chicago:20240822T220000
DTSTAMP:20260425T202656
CREATED:20240812T163830Z
LAST-MODIFIED:20240812T163830Z
UID:4693-1724355000-1724364000@geneseo.org
SUMMARY:The Richmond Hill Players present: The Money In Uncle George's Suitcase
DESCRIPTION:When Uncle George invites his whole family up for a weekend of fun at his rustic cabin\, he actually wants them together so he can read his will. But between the bequeathing and his rambling stories\, George drops the bomb that somewhere on the property is a suitcase holding four hundred and eighty thousand dollars! What follows is a hilarious farce of pettiness\, slander\, and greed. The relatives end up wrestling each other\, falling down the stairs\, and getting stuck in the furniture. “Yep\, we’re gonna have lots of fun!” says George as he’s seen carrying a shovel out the front door. But George’s gift is much more important than mere money\, even though the relatives don’t see it that way – at first.
URL:https://geneseo.org/event/the-richmond-hill-players-present-the-money-in-uncle-georges-suitcase-5/
LOCATION:Richmond Hill Barn Theater\, 600 H.K. Robinson Drive\, Geneseo\, IL\, 61254\, United States
END:VEVENT
BEGIN:VEVENT
DTSTART;TZID=America/Chicago:20240822T173000
DTEND;TZID=America/Chicago:20240822T190000
DTSTAMP:20260425T202656
CREATED:20231220T184539Z
LAST-MODIFIED:20240812T164418Z
UID:4071-1724347800-1724353200@geneseo.org
SUMMARY:Geneseo Mural Project Mural #5 Reveal Party
DESCRIPTION:Join us the evening of August 22nd for the 5th installment of the Geneseo Mural Project! More details to come! \nhttps://geneseo.org/wp-content/uploads/2023/12/Pink-Blank-Canvas-Paint-Stroke-Quote-Instagram-Story-Post-Template-.mp4\nThank you to our Mural Sponsors and supporters! \n\nGeneseo Foundation\nDennis and Jane Reese Family Foundation\nCentral Bank Illinois\nBetty Miller Foundation\nRotary Club of Geneseo\nFarmers National Bank\nHanford Insurance\nPegasus Fine Gifts\nGeneseo Communications Foundation\nSmith Studio & Gallery\nJW Shooting Parlor\nCity of Geneseo\nAll in Stitches\nMusical Memories\nCIC YOUR Digital Print Center\, LLC\nCat White\, Artist\nCentral Schoolhouse\nGeneseo Communications\nFirst Lutheran Church\nJim Nyland Photography\nFreedom Barricade Services\nKrios Engraving\nTower Rental\nSmith Studio and Gallery\nRutabaga Art\nThe Carbiener Family\nC&S Antique Mall\nGeneseo Historical Museum\nThe Neumann Foundation
URL:https://geneseo.org/event/geneseo-mural-project-mural-5-projection-party/
LOCATION:Richmond Hill Park\, 600 HK Robinson Dr.\, Geneseo\, IL\, 61254\, United States
END:VEVENT
BEGIN:VEVENT
DTSTART;TZID=America/Chicago:20240818T150000
DTEND;TZID=America/Chicago:20240818T180000
DTSTAMP:20260425T202656
CREATED:20240812T163718Z
LAST-MODIFIED:20240812T163718Z
UID:4691-1723993200-1724004000@geneseo.org
SUMMARY:The Richmond Hill Players present: The Money In Uncle George's Suitcase
DESCRIPTION:When Uncle George invites his whole family up for a weekend of fun at his rustic cabin\, he actually wants them together so he can read his will. But between the bequeathing and his rambling stories\, George drops the bomb that somewhere on the property is a suitcase holding four hundred and eighty thousand dollars! What follows is a hilarious farce of pettiness\, slander\, and greed. The relatives end up wrestling each other\, falling down the stairs\, and getting stuck in the furniture. “Yep\, we’re gonna have lots of fun!” says George as he’s seen carrying a shovel out the front door. But George’s gift is much more important than mere money\, even though the relatives don’t see it that way – at first.
URL:https://geneseo.org/event/the-richmond-hill-players-present-the-money-in-uncle-georges-suitcase-4/
LOCATION:Richmond Hill Barn Theater\, 600 H.K. Robinson Drive\, Geneseo\, IL\, 61254\, United States
END:VEVENT
BEGIN:VEVENT
DTSTART;TZID=America/Chicago:20240817T193000
DTEND;TZID=America/Chicago:20240817T220000
DTSTAMP:20260425T202656
CREATED:20240812T163541Z
LAST-MODIFIED:20240812T163541Z
UID:4689-1723923000-1723932000@geneseo.org
SUMMARY:The Richmond Hill Players present: The Money In Uncle George's Suitcase
DESCRIPTION:When Uncle George invites his whole family up for a weekend of fun at his rustic cabin\, he actually wants them together so he can read his will. But between the bequeathing and his rambling stories\, George drops the bomb that somewhere on the property is a suitcase holding four hundred and eighty thousand dollars! What follows is a hilarious farce of pettiness\, slander\, and greed. The relatives end up wrestling each other\, falling down the stairs\, and getting stuck in the furniture. “Yep\, we’re gonna have lots of fun!” says George as he’s seen carrying a shovel out the front door. But George’s gift is much more important than mere money\, even though the relatives don’t see it that way – at first.
URL:https://geneseo.org/event/the-richmond-hill-players-present-the-money-in-uncle-georges-suitcase-3/
LOCATION:Richmond Hill Barn Theater\, 600 H.K. Robinson Drive\, Geneseo\, IL\, 61254\, United States
END:VEVENT
BEGIN:VEVENT
DTSTART;TZID=America/Chicago:20240816T193000
DTEND;TZID=America/Chicago:20240816T220000
DTSTAMP:20260425T202656
CREATED:20240812T163422Z
LAST-MODIFIED:20240812T163422Z
UID:4687-1723836600-1723845600@geneseo.org
SUMMARY:The Richmond Hill Players present: The Money In Uncle George's Suitcase
DESCRIPTION:When Uncle George invites his whole family up for a weekend of fun at his rustic cabin\, he actually wants them together so he can read his will. But between the bequeathing and his rambling stories\, George drops the bomb that somewhere on the property is a suitcase holding four hundred and eighty thousand dollars! What follows is a hilarious farce of pettiness\, slander\, and greed. The relatives end up wrestling each other\, falling down the stairs\, and getting stuck in the furniture. “Yep\, we’re gonna have lots of fun!” says George as he’s seen carrying a shovel out the front door. But George’s gift is much more important than mere money\, even though the relatives don’t see it that way – at first.
URL:https://geneseo.org/event/the-richmond-hill-players-present-the-money-in-uncle-georges-suitcase-2/
LOCATION:Richmond Hill Barn Theater\, 600 H.K. Robinson Drive\, Geneseo\, IL\, 61254\, United States
END:VEVENT
BEGIN:VEVENT
DTSTART;TZID=America/Chicago:20240816T190000
DTEND;TZID=America/Chicago:20240816T220000
DTSTAMP:20260425T202656
CREATED:20240409T215839Z
LAST-MODIFIED:20240409T215839Z
UID:4494-1723834800-1723845600@geneseo.org
SUMMARY:LIVE MUSIC - Rabbit Hole
DESCRIPTION:LIVE MUSIC – Rabbit Hole
URL:https://geneseo.org/event/live-music-rabbit-hole/
LOCATION:Central Bank Pavilion\, 218 N. State St.\, Geneseo\, IL\, 61254
END:VEVENT
BEGIN:VEVENT
DTSTART;TZID=America/Chicago:20240815T193000
DTEND;TZID=America/Chicago:20240815T220000
DTSTAMP:20260425T202656
CREATED:20240812T163313Z
LAST-MODIFIED:20240812T163313Z
UID:4684-1723750200-1723759200@geneseo.org
SUMMARY:The Richmond Hill Players present: The Money In Uncle George's Suitcase
DESCRIPTION:When Uncle George invites his whole family up for a weekend of fun at his rustic cabin\, he actually wants them together so he can read his will. But between the bequeathing and his rambling stories\, George drops the bomb that somewhere on the property is a suitcase holding four hundred and eighty thousand dollars! What follows is a hilarious farce of pettiness\, slander\, and greed. The relatives end up wrestling each other\, falling down the stairs\, and getting stuck in the furniture. “Yep\, we’re gonna have lots of fun!” says George as he’s seen carrying a shovel out the front door. But George’s gift is much more important than mere money\, even though the relatives don’t see it that way – at first.
URL:https://geneseo.org/event/the-richmond-hill-players-present-the-money-in-uncle-georges-suitcase/
LOCATION:Richmond Hill Barn Theater\, 600 H.K. Robinson Drive\, Geneseo\, IL\, 61254\, United States
END:VEVENT
BEGIN:VEVENT
DTSTART;TZID=America/Chicago:20240814T190000
DTEND;TZID=America/Chicago:20240814T210000
DTSTAMP:20260425T202656
CREATED:20240409T220602Z
LAST-MODIFIED:20240409T220602Z
UID:4510-1723662000-1723669200@geneseo.org
SUMMARY:LIVE MUSIC - Incredible 45s
DESCRIPTION:LIVE MUSIC – Incredible 45s
URL:https://geneseo.org/event/live-music-incredible-45s/
LOCATION:Central Bank Pavilion\, 218 N. State St.\, Geneseo\, IL\, 61254
END:VEVENT
BEGIN:VEVENT
DTSTART;TZID=America/Chicago:20240810T200000
DTEND;TZID=America/Chicago:20240810T230000
DTSTAMP:20260425T202656
CREATED:20240409T215750Z
LAST-MODIFIED:20240409T215750Z
UID:4492-1723320000-1723330800@geneseo.org
SUMMARY:LIVE MUSIC - Lynn Allen
DESCRIPTION:LIVE MUSIC – Lynn Allen \nSponsored by: Hanford Insurance
URL:https://geneseo.org/event/live-music-lynn-allen/
LOCATION:Central Bank Pavilion\, 218 N. State St.\, Geneseo\, IL\, 61254
END:VEVENT
BEGIN:VEVENT
DTSTART;TZID=America/Chicago:20240810T140000
DTEND;TZID=America/Chicago:20240810T160000
DTSTAMP:20260425T202656
CREATED:20240703T192213Z
LAST-MODIFIED:20240715T141354Z
UID:4622-1723298400-1723305600@geneseo.org
SUMMARY:Geneseo Historical Association Garden Party & 50th Anniversary Celebration
DESCRIPTION:
URL:https://geneseo.org/event/geneseo-historical-association-garden-party-50th-anniversary-celebration/
LOCATION:Geneseo Historical Museum\, 205 S. State St.\, Geneseo\, IL\, 61254
END:VEVENT
BEGIN:VEVENT
DTSTART;VALUE=DATE:20240810
DTEND;VALUE=DATE:20240811
DTSTAMP:20260425T202656
CREATED:20231220T183727Z
LAST-MODIFIED:20240702T153358Z
UID:4069-1723248000-1723334399@geneseo.org
SUMMARY:Spook the Loop II feat. Butch Patrick
DESCRIPTION:HE’S BACK! Following the smashing success of Spook the Loop in 2023\, we are running the whole thing back again with Butch Patrick (aka Eddie Munster) in 2024 for Spook The Loop II in Geneseo! Stop by for a day full of spooky fun\, cool cars\, and live music. Come meet Butch in person\, get a photo and autograph\, bring your classic car\, and enjoy a super fun day and evening in Geneseo!\n\nSpook the Loop II – Geneseo\, ILSaturday August 10\, 2024\n1:30p-3p: Butch Patrick Meet & Greet at Former Four Seasons Outlet4p-5p: LIVE MUSIC – Geneseo Big Band at Geneseo City Park4p-6p: Geneseo Shoot the Loop at Geneseo City Park (Cruise starts at 5pm)7p-9p: Butch Patrick Meet & Greet at Central Bank Pavilion8p-11p: LIVE MUSIC with Lynn Allen at Central Bank Pavilion\, sponsored by: Hanford Insurance\n\nThere will be a meet & greet opportunity with Butch\, a Shoot the Loop event at the City Park\, and Lynn Allen will perform at the Central Bank Pavilion in the evening\, sponsored by Hanford Insurance Agency.\nThis is going to be another huge day in Geneseo. Save the date – Saturday August 10 in Geneseo\, IL. Spook the Loop II feat. Butch Patrick!\n\nSpook the Loop is made possible thank to the efforts of Geneseo Shoot the Loop\, Central Bank Illinois\, Hanford Insurance Agency\, Sheilah Wigant-McGee Originals\, and the Geneseo Chamber of Commerce.
URL:https://geneseo.org/event/spook-the-loop-2/
LOCATION:Geneseo\, IL
END:VEVENT
BEGIN:VEVENT
DTSTART;TZID=America/Chicago:20240809T083000
DTEND;TZID=America/Chicago:20240809T130000
DTSTAMP:20260425T202656
CREATED:20240703T204455Z
LAST-MODIFIED:20240703T205240Z
UID:4625-1723192200-1723208400@geneseo.org
SUMMARY:Ecology Solutions Open House
DESCRIPTION:
URL:https://geneseo.org/event/ecology-solutions-open-house/
LOCATION:The Gathering Place\, 500 N. State St.\, Atkinson\, IL\, United States
END:VEVENT
BEGIN:VEVENT
DTSTART;TZID=America/Chicago:20240807T190000
DTEND;TZID=America/Chicago:20240807T210000
DTSTAMP:20260425T202656
CREATED:20240409T220501Z
LAST-MODIFIED:20240409T220501Z
UID:4508-1723057200-1723064400@geneseo.org
SUMMARY:LIVE MUSIC - Shaun Easton
DESCRIPTION:LIVE MUSIC – Shaun Easton
URL:https://geneseo.org/event/live-music-shaun-easton/
LOCATION:Central Bank Pavilion\, 218 N. State St.\, Geneseo\, IL\, 61254
END:VEVENT
BEGIN:VEVENT
DTSTART;TZID=America/Chicago:20240801T060000
DTEND;TZID=America/Chicago:20240801T210000
DTSTAMP:20260425T202656
CREATED:20231220T171655Z
LAST-MODIFIED:20231220T171655Z
UID:4067-1722492000-1722546000@geneseo.org
SUMMARY:Geneseo Chamber Annual Dinner and Awards
DESCRIPTION:Join us on Thursday\, August 1\, 2024 for the Geneseo Chamber of Commerce Annual Dinner and Awards! More details to come!
URL:https://geneseo.org/event/geneseo-chamber-annual-dinner-and-awards/
LOCATION:Lavender Crest Winery
ORGANIZER;CN="Geneseo Chamber of Commerce":MAILTO:geneseo@geneseo.org
END:VEVENT
BEGIN:VEVENT
DTSTART;TZID=America/Chicago:20240731T190000
DTEND;TZID=America/Chicago:20240731T210000
DTSTAMP:20260425T202656
CREATED:20240409T220419Z
LAST-MODIFIED:20240409T220419Z
UID:4506-1722452400-1722459600@geneseo.org
SUMMARY:LIVE MUSIC - Pickled Beats
DESCRIPTION:LIVE MUSIC – Pickled Beats
URL:https://geneseo.org/event/live-music-pickled-beats/
LOCATION:Central Bank Pavilion\, 218 N. State St.\, Geneseo\, IL\, 61254
END:VEVENT
BEGIN:VEVENT
DTSTART;TZID=America/Chicago:20240730T180000
DTEND;TZID=America/Chicago:20240730T200000
DTSTAMP:20260425T202656
CREATED:20240409T192539Z
LAST-MODIFIED:20240409T192539Z
UID:4441-1722362400-1722369600@geneseo.org
SUMMARY:Ice Cream Social at City Park
DESCRIPTION:Benefitting: Geneseo Education Foundation \nMusic by: Geneseo Big Band
URL:https://geneseo.org/event/ice-cream-social-at-city-park-8/
LOCATION:Geneseo City Park\, 140 W. Pearl St.\, Geneseo\, IL\, 61254\, United States
END:VEVENT
END:VCALENDAR