BEGIN:VCALENDAR
VERSION:2.0
PRODID:-//Geneseo Chamber of Commerce - ECPv6.14.1//NONSGML v1.0//EN
CALSCALE:GREGORIAN
METHOD:PUBLISH
X-ORIGINAL-URL:https://geneseo.org
X-WR-CALDESC:Events for Geneseo Chamber of Commerce
REFRESH-INTERVAL;VALUE=DURATION:PT1H
X-Robots-Tag:noindex
X-PUBLISHED-TTL:PT1H
BEGIN:VTIMEZONE
TZID:America/Chicago
BEGIN:DAYLIGHT
TZOFFSETFROM:-0600
TZOFFSETTO:-0500
TZNAME:CDT
DTSTART:20250309T080000
END:DAYLIGHT
BEGIN:STANDARD
TZOFFSETFROM:-0500
TZOFFSETTO:-0600
TZNAME:CST
DTSTART:20251102T070000
END:STANDARD
END:VTIMEZONE
BEGIN:VEVENT
DTSTART;TZID=America/Chicago:20250719T100000
DTEND;TZID=America/Chicago:20250719T150000
DTSTAMP:20260425T131449
CREATED:20250629T140716Z
LAST-MODIFIED:20250629T140716Z
UID:5242-1752919200-1752937200@geneseo.org
SUMMARY:Porches\, Pools and Patios
DESCRIPTION:  \nGeneseo is blessed to be filled with exceptional flowers\, landscaping\, swimming pools and outdoor living spaces that we all enjoy during the warmth of summer.  Our event\, sponsored by the Lightkeepers of Geneseo First Methodist\, offers an opportunity for you and your friends to stroll\, at your leisure\, through five remarkable properties during the 10-3 hours on July 19th. Between the hours of 11 and 2 you will be able to enjoy a uniquely large and beautiful salad and charcuterie lunch in the church Commons at 302 North State Street in Geneseo. We hope you’ll gather your flower loving/food loving/outdoor loving friends for a relaxing day together. \n 
URL:https://geneseo.org/event/porches-pools-and-patios-2/
LOCATION:First Methodist Church
END:VEVENT
BEGIN:VEVENT
DTSTART;TZID=America/Chicago:20250719T080000
DTEND;TZID=America/Chicago:20250719T120000
DTSTAMP:20260425T131449
CREATED:20250623T154008Z
LAST-MODIFIED:20250623T154008Z
UID:5172-1752912000-1752926400@geneseo.org
SUMMARY:Geneseo Farmer's Market
DESCRIPTION:  \nThe Geneseo Farmer’s Market is a local farmer’s market.Our summer market is located on Pearl Street at the City Park in Geneseo.When: Every Saturday\, June – OctoberTime: 8 a.m. to 12 p.m. \n 
URL:https://geneseo.org/event/geneseo-farmers-market-26/
LOCATION:Geneseo City Park\, 140 W. Pearl St.\, Geneseo\, IL\, 61254\, United States
END:VEVENT
BEGIN:VEVENT
DTSTART;TZID=America/Chicago:20250718T193000
DTEND;TZID=America/Chicago:20250718T220000
DTSTAMP:20260425T131449
CREATED:20250618T155546Z
LAST-MODIFIED:20250618T160521Z
UID:5137-1752867000-1752876000@geneseo.org
SUMMARY:Ken Ludwig's "A Fox On The Fairway"
DESCRIPTION:  \n \n  \nA tribute to the English farces of the 1930s & ’40s\, A Fox on the Fairway takes audiences on a riotous ride!
URL:https://geneseo.org/event/ken-ludwigs-a-fox-on-the-fairway-6/
LOCATION:Richmond Hill Barn Theater\, 600 H.K. Robinson Drive\, Geneseo\, IL\, 61254\, United States
END:VEVENT
BEGIN:VEVENT
DTSTART;TZID=America/Chicago:20250718T190000
DTEND;TZID=America/Chicago:20250718T210000
DTSTAMP:20260425T131449
CREATED:20250603T120156Z
LAST-MODIFIED:20250603T120156Z
UID:5086-1752865200-1752872400@geneseo.org
SUMMARY:Live Music: Ian Bebon
DESCRIPTION:  \n \n  \nCome enjoy live music with country music artist Ian Bebon! We look forward to seeing you at the Central Bank Pavilion for this big night!
URL:https://geneseo.org/event/live-music-ian-bebon/
LOCATION:Central Bank Pavilion\, 218 N. State St.\, Geneseo\, IL\, 61254
END:VEVENT
BEGIN:VEVENT
DTSTART;TZID=America/Chicago:20250718T100000
DTEND;TZID=America/Chicago:20250718T110000
DTSTAMP:20260425T131449
CREATED:20250629T142408Z
LAST-MODIFIED:20250629T142408Z
UID:5251-1752832800-1752836400@geneseo.org
SUMMARY:Legends and Landmarks Tour - SOLD OUT
DESCRIPTION:  \nStep back in time with us this summer! The Geneseo Historical Museum is proud to offer Walking Tours through historic Geneseo. Perfect for history lovers\, families\, educators\, and curious minds of all ages\, these engaging tours explore the stories\, architecture\, and unique character of our community. \n 
URL:https://geneseo.org/event/legends-and-landmarks-tour-sold-out-2/
LOCATION:118 E. First St.\, 118 E. First St.\, Geneseo\, IL\, 61254\, United States
END:VEVENT
BEGIN:VEVENT
DTSTART;TZID=America/Chicago:20250717T193000
DTEND;TZID=America/Chicago:20250717T220000
DTSTAMP:20260425T131449
CREATED:20250618T155428Z
LAST-MODIFIED:20250618T160456Z
UID:5135-1752780600-1752789600@geneseo.org
SUMMARY:Ken Ludwig's "A Fox On The Fairway"
DESCRIPTION:  \n \n  \nA tribute to the English farces of the 1930s & ’40s\, A Fox on the Fairway takes audiences on a riotous ride!
URL:https://geneseo.org/event/ken-ludwigs-a-fox-on-the-fairway-5/
LOCATION:Richmond Hill Barn Theater\, 600 H.K. Robinson Drive\, Geneseo\, IL\, 61254\, United States
END:VEVENT
BEGIN:VEVENT
DTSTART;TZID=America/Chicago:20250717T180000
DTEND;TZID=America/Chicago:20250717T190000
DTSTAMP:20260425T131449
CREATED:20250629T142105Z
LAST-MODIFIED:20250629T142105Z
UID:5246-1752775200-1752778800@geneseo.org
SUMMARY:Legends and Landmarks Tour - SOLD OUT
DESCRIPTION:  \nStep back in time with us this summer! The Geneseo Historical Museum is proud to offer Walking Tours through historic Geneseo. Perfect for history lovers\, families\, educators\, and curious minds of all ages\, these engaging tours explore the stories\, architecture\, and unique character of our community. \n  \n \n  \n 
URL:https://geneseo.org/event/legends-and-landmarks-tour-sold-out/
LOCATION:118 E. First St.\, 118 E. First St.\, Geneseo\, IL\, 61254\, United States
END:VEVENT
BEGIN:VEVENT
DTSTART;TZID=America/Chicago:20250716T180000
DTEND;TZID=America/Chicago:20250716T200000
DTSTAMP:20260425T131449
CREATED:20250603T115950Z
LAST-MODIFIED:20250603T115950Z
UID:5083-1752688800-1752696000@geneseo.org
SUMMARY:Wednesday Night Concert Series feat. Pickled Beats
DESCRIPTION:  \n \n  \nGet ready for some Wednesday night entertainment! Join us Wednesday\, July 16th\, to experience the “Pickled Beats” at the Central Bank Pavilion from 6-8PM! \n 
URL:https://geneseo.org/event/wednesday-night-concert-series-feat-pickled-beats/
LOCATION:Central Bank Pavilion\, 218 N. State St.\, Geneseo\, IL\, 61254
END:VEVENT
BEGIN:VEVENT
DTSTART;TZID=America/Chicago:20250715T180000
DTEND;TZID=America/Chicago:20250715T200000
DTSTAMP:20260425T131449
CREATED:20250618T153720Z
LAST-MODIFIED:20250618T153720Z
UID:5119-1752602400-1752609600@geneseo.org
SUMMARY:Ice Cream Social
DESCRIPTION:  \nTuesday evening Ice Cream Socials at the City Park are a favorite Geneseo Past Time. Enjoy great music and cold ice cream all summer long! \nWhere: Geneseo City Park Bandshell \nIce Cream Socials Begin Serving at 6:00 pm \nBand Performance begins at 7:00 pm \nNon-Profit Service Ice Cream: Henry County Sheriff’s Auxiliary \nBand Performing: Maple City Band
URL:https://geneseo.org/event/geneseo-ice-cream-social-4/
LOCATION:Geneseo City Park\, 140 W. Pearl St.\, Geneseo\, IL\, 61254\, United States
END:VEVENT
BEGIN:VEVENT
DTSTART;TZID=America/Chicago:20250713T150000
DTEND;TZID=America/Chicago:20250713T173000
DTSTAMP:20260425T131449
CREATED:20250618T155306Z
LAST-MODIFIED:20250618T160648Z
UID:5133-1752418800-1752427800@geneseo.org
SUMMARY:Ken Ludwig's "A Fox On The Fairway"
DESCRIPTION:  \n \n  \nA tribute to the English farces of the 1930s & ’40s\, A Fox on the Fairway takes audiences on a riotous ride!
URL:https://geneseo.org/event/ken-ludwigs-a-fox-on-the-fairway-4/
LOCATION:Richmond Hill Barn Theater\, 600 H.K. Robinson Drive\, Geneseo\, IL\, 61254\, United States
END:VEVENT
BEGIN:VEVENT
DTSTART;TZID=America/Chicago:20250712T193000
DTEND;TZID=America/Chicago:20250712T220000
DTSTAMP:20260425T131449
CREATED:20250618T155042Z
LAST-MODIFIED:20250618T160208Z
UID:5131-1752348600-1752357600@geneseo.org
SUMMARY:Ken Ludwig's "A Fox On The Fairway"
DESCRIPTION:  \n \n  \nA tribute to the English farces of the 1930s & ’40s\, A Fox on the Fairway takes audiences on a riotous ride! \n 
URL:https://geneseo.org/event/ken-ludwigs-a-fox-on-the-fairway-3/
LOCATION:Richmond Hill Barn Theater\, 600 H.K. Robinson Drive\, Geneseo\, IL\, 61254\, United States
END:VEVENT
BEGIN:VEVENT
DTSTART;TZID=America/Chicago:20250712T170000
DTEND;TZID=America/Chicago:20250712T193000
DTSTAMP:20260425T131449
CREATED:20250603T115121Z
LAST-MODIFIED:20250603T115121Z
UID:5075-1752339600-1752348600@geneseo.org
SUMMARY:Geneseo Shoot the Loop
DESCRIPTION:  \n \n  \nCome Join us at the Geneseo Park on July 12 from 5:00-7:30PM. Park in the Park. Cruise State Street. Just Hang out. See you there!
URL:https://geneseo.org/event/geneseo-shoot-the-loop/
LOCATION:Geneseo City Park and Downtown Geneseo
END:VEVENT
BEGIN:VEVENT
DTSTART;TZID=America/Chicago:20250712T080000
DTEND;TZID=America/Chicago:20250712T120000
DTSTAMP:20260425T131449
CREATED:20250623T153838Z
LAST-MODIFIED:20250623T153838Z
UID:5170-1752307200-1752321600@geneseo.org
SUMMARY:Geneseo Farmer's Market
DESCRIPTION:  \nThe Geneseo Farmer’s Market is a local farmer’s market.Our summer market is located on Pearl Street at the City Park in Geneseo.When: Every Saturday\, June – OctoberTime: 8 a.m. to 12 p.m. \n  \n \n 
URL:https://geneseo.org/event/geneseo-farmers-market-25/
LOCATION:Geneseo City Park\, 140 W. Pearl St.\, Geneseo\, IL\, 61254\, United States
END:VEVENT
BEGIN:VEVENT
DTSTART;TZID=America/Chicago:20250711T193000
DTEND;TZID=America/Chicago:20250711T220000
DTSTAMP:20260425T131449
CREATED:20250618T154903Z
LAST-MODIFIED:20250618T160032Z
UID:5129-1752262200-1752271200@geneseo.org
SUMMARY:Ken Ludwig's "A Fox On The Fairway"
DESCRIPTION:  \n \n  \nA tribute to the English farces of the 1930s & ’40s\, A Fox on the Fairway takes audiences on a riotous ride!
URL:https://geneseo.org/event/ken-ludwigs-a-fox-on-the-fairway-2/
LOCATION:Richmond Hill Barn Theater\, 600 H.K. Robinson Drive\, Geneseo\, IL\, 61254\, United States
END:VEVENT
BEGIN:VEVENT
DTSTART;TZID=America/Chicago:20250710T193000
DTEND;TZID=America/Chicago:20250710T220000
DTSTAMP:20260425T131449
CREATED:20250618T154630Z
LAST-MODIFIED:20250618T160002Z
UID:5126-1752175800-1752184800@geneseo.org
SUMMARY:Ken Ludwig's "A Fox On The Fairway"
DESCRIPTION:  \n \n  \nA tribute to the English farces of the 1930s & ’40s\, A Fox on the Fairway takes audiences on a riotous ride!
URL:https://geneseo.org/event/ken-ludwigs-a-fox-on-the-fairway/
LOCATION:Richmond Hill Barn Theater\, 600 H.K. Robinson Drive\, Geneseo\, IL\, 61254\, United States
END:VEVENT
BEGIN:VEVENT
DTSTART;TZID=America/Chicago:20250709T180000
DTEND;TZID=America/Chicago:20250709T200000
DTSTAMP:20260425T131449
CREATED:20250603T115712Z
LAST-MODIFIED:20250603T115712Z
UID:5080-1752084000-1752091200@geneseo.org
SUMMARY:Wednesday Night Concert Series feat. Cats and Dragons
DESCRIPTION:  \n \n  \nCome support a band on the rise “Cats and Dragons” at the Central Bank Pavilion\, Wednesday\, July 9th\, for a live music concert! Reminder that all concerts at the Pavilion are free!
URL:https://geneseo.org/event/wednesday-night-concert-series-feat-cats-and-dragons/
LOCATION:Central Bank Pavilion\, 218 N. State St.\, Geneseo\, IL\, 61254
END:VEVENT
BEGIN:VEVENT
DTSTART;TZID=America/Chicago:20250709T170000
DTEND;TZID=America/Chicago:20250709T190000
DTSTAMP:20260425T131449
CREATED:20250707T132824Z
LAST-MODIFIED:20250707T132824Z
UID:5289-1752080400-1752087600@geneseo.org
SUMMARY:Safety Starts With YOU
DESCRIPTION:  \nJoin us for a free community event focused on fun and safety for the whole family! Date: July 9 Time: 5–7 PM Location: Central Bank Pavilion\, GeneseoEnjoy: Live safety demonstrations Fun giveaways Kids activities Great family-friendly atmosphere!Let’s learn how to stay safe and support our local community together. We hope to see you there!Sponsored by: Henry County Farm Bureau Health & Safety Committee \n 
URL:https://geneseo.org/event/geneseo-safety-starts-with-you/
LOCATION:Central Bank Pavilion\, 218 N. State St.\, Geneseo\, IL\, 61254
END:VEVENT
BEGIN:VEVENT
DTSTART;TZID=America/Chicago:20250708T180000
DTEND;TZID=America/Chicago:20250708T200000
DTSTAMP:20260425T131449
CREATED:20250618T153536Z
LAST-MODIFIED:20250618T153551Z
UID:5116-1751997600-1752004800@geneseo.org
SUMMARY:Ice Cream Social
DESCRIPTION:Tuesday evening Ice Cream Socials at the City Park are a favorite Geneseo Past Time. Enjoy great music and cold ice cream all summer long! \nWhere: Geneseo City Park Bandshell \nIce Cream Socials Begin Serving at 6:00 pm \nBand Performance begins at 7:00 pm \nNon-Profit Service Ice Cream: Geneseo Humane Society \nBand Performing: Miracle Bluegrass Band
URL:https://geneseo.org/event/geneseo-ice-cream-social-3/
LOCATION:Geneseo City Park\, 140 W. Pearl St.\, Geneseo\, IL\, 61254\, United States
END:VEVENT
BEGIN:VEVENT
DTSTART;TZID=America/Chicago:20250705T080000
DTEND;TZID=America/Chicago:20250705T120000
DTSTAMP:20260425T131449
CREATED:20250623T153514Z
LAST-MODIFIED:20250623T153514Z
UID:5168-1751702400-1751716800@geneseo.org
SUMMARY:Geneseo Farmer's Market
DESCRIPTION:  \nThe Geneseo Farmer’s Market is a local farmer’s market.Our summer market is located on Pearl Street at the City Park in Geneseo.When: Every Saturday\, June – OctoberTime: 8 a.m. to 12 p.m. \n 
URL:https://geneseo.org/event/geneseo-farmers-market-24/
LOCATION:Geneseo City Park\, 140 W. Pearl St.\, Geneseo\, IL\, 61254\, United States
END:VEVENT
BEGIN:VEVENT
DTSTART;TZID=America/Chicago:20250704T110000
DTEND;TZID=America/Chicago:20250704T140000
DTSTAMP:20260425T131449
CREATED:20250618T145340Z
LAST-MODIFIED:20250618T145340Z
UID:5109-1751626800-1751637600@geneseo.org
SUMMARY:Pork In The Park
DESCRIPTION:  \nPresented by: The Geneseo Kiwanis Club\, The Geneseo Aisle of Flags\, and the Maple City Band. \n  \n \n 
URL:https://geneseo.org/event/pork-in-the-park-2/
LOCATION:Geneseo City Park\, 140 W. Pearl St.\, Geneseo\, IL\, 61254\, United States
END:VEVENT
BEGIN:VEVENT
DTSTART;TZID=America/Chicago:20250703T173000
DTEND;TZID=America/Chicago:20250703T220000
DTSTAMP:20260425T131449
CREATED:20250603T114408Z
LAST-MODIFIED:20250603T114408Z
UID:5072-1751563800-1751580000@geneseo.org
SUMMARY:Thrill on the Hill Fireworks Show
DESCRIPTION:  \n \n  \nFood and Beverages 5:30 p.m. – 9:00 p.m.Children’s Activities 6:00 p.m. – 8:00 p.m.Music Spazmatics 6:30 p.m. – 9:00 p.m.Face Painting 6:00 p.m. – 8:30 p.m.Fireworks – Begin at Dusk
URL:https://geneseo.org/event/thrill-on-the-hill-fireworks-show/
LOCATION:Richmond Hill Park\, 600 HK Robinson Dr.\, Geneseo\, IL\, 61254\, United States
END:VEVENT
BEGIN:VEVENT
DTSTART;TZID=America/Chicago:20250701T180000
DTEND;TZID=America/Chicago:20250701T200000
DTSTAMP:20260425T131449
CREATED:20250618T153359Z
LAST-MODIFIED:20250618T153359Z
UID:5114-1751392800-1751400000@geneseo.org
SUMMARY:Ice Cream Social
DESCRIPTION:  \nTuesday evening Ice Cream Socials at the City Park are a favorite Geneseo Past Time. Enjoy great music and cold ice cream all summer long! \nWhere: Geneseo City Park Bandshell \nIce Cream Socials Begin Serving at 6:00 pm \nBand Performance begins at 7:00 pm \nNon-Profit Service Ice Cream: Geneseo Police Department Impact program \nBand Performing: Maple City German Band
URL:https://geneseo.org/event/geneseo-ice-cream-social-2/
LOCATION:Geneseo City Park\, 140 W. Pearl St.\, Geneseo\, IL\, 61254\, United States
END:VEVENT
BEGIN:VEVENT
DTSTART;TZID=America/Chicago:20250628T110000
DTEND;TZID=America/Chicago:20250628T140000
DTSTAMP:20260425T131449
CREATED:20250626T213442Z
LAST-MODIFIED:20250626T213442Z
UID:5234-1751108400-1751119200@geneseo.org
SUMMARY:7th Annual Brantley Francis Foundation Community Picnic
DESCRIPTION: 
URL:https://geneseo.org/event/7th-annual-brantley-francis-foundation-community-picnic/
LOCATION:Geneseo City Park\, 140 W. Pearl St.\, Geneseo\, IL\, 61254\, United States
END:VEVENT
BEGIN:VEVENT
DTSTART;TZID=America/Chicago:20250628T080000
DTEND;TZID=America/Chicago:20250628T120000
DTSTAMP:20260425T131449
CREATED:20250623T153007Z
LAST-MODIFIED:20250623T153007Z
UID:5165-1751097600-1751112000@geneseo.org
SUMMARY:Geneseo Farmer's Market
DESCRIPTION:  \nThe Geneseo Farmer’s Market is a local farmer’s market.Our summer market is located on Pearl Street at the City Park in Geneseo.When: Every Saturday\, June – OctoberTime: 8 a.m. to 12 p.m. \n  \n \n 
URL:https://geneseo.org/event/geneseo-farmers-market-23/
LOCATION:Geneseo City Park\, 140 W. Pearl St.\, Geneseo\, IL\, 61254\, United States
END:VEVENT
BEGIN:VEVENT
DTSTART;TZID=America/Chicago:20250625T190000
DTEND;TZID=America/Chicago:20250625T210000
DTSTAMP:20260425T131449
CREATED:20250317T170809Z
LAST-MODIFIED:20250317T170809Z
UID:5026-1750878000-1750885200@geneseo.org
SUMMARY:Geneseo Community Choir Concert
DESCRIPTION:Geneseo Community Choir Concert\nWed.\, June 25\, 2025\n7:00 p.m.\nGeneseo High School Concert Hall\nAdmission: $5.00 – K-12; $7.00 – 18 and older; free for children under age 5.
URL:https://geneseo.org/event/geneseo-community-choir-concert/
LOCATION:Geneseo High School\, 700 N. State St.\, Geneseo\, IL\, 61254\, United States
END:VEVENT
BEGIN:VEVENT
DTSTART;TZID=America/Chicago:20250624T180000
DTEND;TZID=America/Chicago:20250624T200000
DTSTAMP:20260425T131449
CREATED:20250618T153153Z
LAST-MODIFIED:20250618T154102Z
UID:5112-1750788000-1750795200@geneseo.org
SUMMARY:Ice Cream Social
DESCRIPTION:  \nTuesday evening Ice Cream Socials at the City Park are a favorite Geneseo Past Time. Enjoy great music and cold ice cream all summer long! \nWhere: Geneseo City Park Bandshell \nIce Cream Socials Begin Serving at 6:00 pm \nBand Performance begins at 7:00 pm \nNon-Profit Service Ice Cream: Geneseo Performing Arts Council (GPAC) \nBand Performing: Geneseo Middle School Band
URL:https://geneseo.org/event/geneseo-ice-cream-social/
LOCATION:Geneseo City Park\, 140 W. Pearl St.\, Geneseo\, IL\, 61254\, United States
END:VEVENT
BEGIN:VEVENT
DTSTART;TZID=America/Chicago:20250615T070000
DTEND;TZID=America/Chicago:20250615T160000
DTSTAMP:20260425T131449
CREATED:20250217T161448Z
LAST-MODIFIED:20250217T161448Z
UID:4991-1749970800-1750003200@geneseo.org
SUMMARY:2025 Geneseo Music Festival
DESCRIPTION:  \nLive your best life at the 2025 Geneseo Music Festival!\n\nGeneseo’s longest running annual festival enters its 57th year in 2025! Join us for free summertime fun on June 13 – 15\, 2025 on Father’s Day Weekend in Geneseo for the Music Fest Queen Pageant\, parades\, cookouts\, live music\, craft vendors\, tractor displays\, food trucks\, kids activities and more!\n\nVendor applications for the Geneseo Music Festival Art & Craft Fair will close on Friday May 30\, 2025.\nFather’s Day Parade applications will be available until Friday June 6\, 2025.\n\nSponsorships for the 2025 Geneseo Music Festival are available! Contact the Geneseo Chamber at 309-944-2686 or at geneseo@geneseo.org.\n\nThe 2025 Geneseo Music Festival Schedule will be announced soon!
URL:https://geneseo.org/event/2025-geneseo-music-festival-3/
LOCATION:Geneseo City Park and Downtown Geneseo
END:VEVENT
BEGIN:VEVENT
DTSTART;TZID=America/Chicago:20250614T080000
DTEND;TZID=America/Chicago:20250614T220000
DTSTAMP:20260425T131449
CREATED:20250217T161235Z
LAST-MODIFIED:20250217T161235Z
UID:4989-1749888000-1749938400@geneseo.org
SUMMARY:2025 Geneseo Music Festival
DESCRIPTION:  \nLive your best life at the 2025 Geneseo Music Festival!\n\nGeneseo’s longest running annual festival enters its 57th year in 2025! Join us for free summertime fun on June 13 – 15\, 2025 on Father’s Day Weekend in Geneseo for the Music Fest Queen Pageant\, parades\, cookouts\, live music\, craft vendors\, tractor displays\, food trucks\, kids activities and more!\n\nVendor applications for the Geneseo Music Festival Art & Craft Fair will close on Friday May 30\, 2025.\nFather’s Day Parade applications will be available until Friday June 6\, 2025.\n\nSponsorships for the 2025 Geneseo Music Festival are available! Contact the Geneseo Chamber at 309-944-2686 or at geneseo@geneseo.org.\n\nThe 2025 Geneseo Music Festival Schedule will be announced soon!
URL:https://geneseo.org/event/2025-geneseo-music-festival-2/
LOCATION:Geneseo City Park and Downtown Geneseo
END:VEVENT
BEGIN:VEVENT
DTSTART;TZID=America/Chicago:20250613T170000
DTEND;TZID=America/Chicago:20250613T223000
DTSTAMP:20260425T131449
CREATED:20250217T160938Z
LAST-MODIFIED:20250217T160938Z
UID:4987-1749834000-1749853800@geneseo.org
SUMMARY:2025 Geneseo Music Festival
DESCRIPTION:  \nLive your best life at the 2025 Geneseo Music Festival!\n\nGeneseo’s longest running annual festival enters its 57th year in 2025! Join us for free summertime fun on June 13 – 15\, 2025 on Father’s Day Weekend in Geneseo for the Music Fest Queen Pageant\, parades\, cookouts\, live music\, craft vendors\, tractor displays\, food trucks\, kids activities and more!\n\nVendor applications for the Geneseo Music Festival Art & Craft Fair will close on Friday May 30\, 2025.\nFather’s Day Parade applications will be available until Friday June 6\, 2025.\n\nSponsorships for the 2025 Geneseo Music Festival are available! Contact the Geneseo Chamber at 309-944-2686 or at geneseo@geneseo.org.\n\nThe 2025 Geneseo Music Festival Schedule will be announced soon!
URL:https://geneseo.org/event/2025-geneseo-music-festival/
LOCATION:Geneseo City Park and Downtown Geneseo
ORGANIZER;CN="Geneseo Chamber of Commerce":MAILTO:geneseo@geneseo.org
END:VEVENT
BEGIN:VEVENT
DTSTART;TZID=America/Chicago:20250426T100000
DTEND;TZID=America/Chicago:20250426T140000
DTSTAMP:20260425T131449
CREATED:20250120T180211Z
LAST-MODIFIED:20250120T180211Z
UID:4948-1745661600-1745676000@geneseo.org
SUMMARY:2025 Geneseo Artwalk
DESCRIPTION:  \nJoin us for the 2025 Geneseo Artwalk on April 26th in downtown Geneseo! \nCALLING ALL ARTISTS: Dust off your tent and put this event on your calendar! Contact the Geneseo Chamber of Commerce at 309-944-2686 if you are interested in participating. Artist & vendor applications can be completed online via this link: https://forms.gle/ak4VajM89gLdVJ21A\n\nDowntown Geneseo springs to life during the Artwalk\, welcoming Spring and offering outstanding shopping and dining options to our guests. Many stores will host art performances in stores and on State Street\, featuring original works and live art demonstrations such as painting\, sculpting\, wood-working and more. Live music\, interactive exhibits\, and art demonstrations will also be featured.\n\nShake off the cabin fever and join us in downtown Geneseo from 10:00 am to 2:00 pm on Saturday April 26 to help us celebrate our local art community!
URL:https://geneseo.org/event/2025-geneseo-artwalk/
LOCATION:Downtown Geneseo
ORGANIZER;CN="Geneseo Chamber of Commerce":MAILTO:geneseo@geneseo.org
END:VEVENT
END:VCALENDAR