BEGIN:VCALENDAR
VERSION:2.0
PRODID:-//Geneseo Chamber of Commerce - ECPv6.14.1//NONSGML v1.0//EN
CALSCALE:GREGORIAN
METHOD:PUBLISH
X-WR-CALNAME:Geneseo Chamber of Commerce
X-ORIGINAL-URL:https://geneseo.org
X-WR-CALDESC:Events for Geneseo Chamber of Commerce
REFRESH-INTERVAL;VALUE=DURATION:PT1H
X-Robots-Tag:noindex
X-PUBLISHED-TTL:PT1H
BEGIN:VTIMEZONE
TZID:America/Chicago
BEGIN:DAYLIGHT
TZOFFSETFROM:-0600
TZOFFSETTO:-0500
TZNAME:CDT
DTSTART:20250309T080000
END:DAYLIGHT
BEGIN:STANDARD
TZOFFSETFROM:-0500
TZOFFSETTO:-0600
TZNAME:CST
DTSTART:20251102T070000
END:STANDARD
END:VTIMEZONE
BEGIN:VEVENT
DTSTART;TZID=America/Chicago:20251002T180000
DTEND;TZID=America/Chicago:20251002T200000
DTSTAMP:20260425T055550
CREATED:20250928T141222Z
LAST-MODIFIED:20250928T141222Z
UID:5615-1759428000-1759435200@geneseo.org
SUMMARY:Mean Girls Trivia
DESCRIPTION:Mean Girls TriviaThursday\, October 2nd @ 6pmRaelyn’s Pub & Eatery (Geneseo\, IL)\n\nFREE To PlayWin House Cash\nALL AGES\n\nWe also wear pink on Thursdays!
URL:https://geneseo.org/event/mean-girls-trivia/
LOCATION:Raelyn’s Pub & Eatery\, 217 N. State St.\, Geneseo\, IL\, 61254\, United States
END:VEVENT
BEGIN:VEVENT
DTSTART;TZID=America/Chicago:20251002T150000
DTEND;TZID=America/Chicago:20251002T170000
DTSTAMP:20260425T055550
CREATED:20250915T190941Z
LAST-MODIFIED:20250915T190941Z
UID:5530-1759417200-1759424400@geneseo.org
SUMMARY:Dr. Ryan Pizinger's Open House
DESCRIPTION:  \n \n 
URL:https://geneseo.org/event/dr-ryan-pizingers-open-house/
LOCATION:Hammond-Henry Hospital\, 600 N. College Ave.\, Geneseo\, IL\, 61254\, United States
END:VEVENT
BEGIN:VEVENT
DTSTART;TZID=America/Chicago:20250927T080000
DTEND;TZID=America/Chicago:20250927T120000
DTSTAMP:20260425T055550
CREATED:20250623T161339Z
LAST-MODIFIED:20250623T161339Z
UID:5193-1758960000-1758974400@geneseo.org
SUMMARY:Geneseo Farmer's Market
DESCRIPTION:  \nThe Geneseo Farmer’s Market is a local farmer’s market.\nOur summer market is located on Pearl Street at the City Park in Geneseo.\nWhen: Every Saturday\, June – October\nTime: 8 a.m. to 12 p.m. \n 
URL:https://geneseo.org/event/geneseo-farmers-market-36/
LOCATION:Geneseo City Park\, 140 W. Pearl St.\, Geneseo\, IL\, 61254\, United States
END:VEVENT
BEGIN:VEVENT
DTSTART;TZID=America/Chicago:20250925T180000
DTEND;TZID=America/Chicago:20250925T190000
DTSTAMP:20260425T055550
CREATED:20250827T123917Z
LAST-MODIFIED:20250827T123917Z
UID:5480-1758823200-1758826800@geneseo.org
SUMMARY:Moments That Made History: “Cutting A Groove”
DESCRIPTION:  \nStep back in time and uncover the turning points that shaped our world.  “Moments That Made History” is an immersive presentation series where we bring pivotal events\, extraordinary people and defining eras to life. \n 
URL:https://geneseo.org/event/cutting-a-groove/
LOCATION:Geneseo Historical Museum\, 205 S. State St.\, Geneseo\, IL\, 61254
END:VEVENT
BEGIN:VEVENT
DTSTART;TZID=America/Chicago:20250921T180000
DTEND;TZID=America/Chicago:20250921T200000
DTSTAMP:20260425T055550
CREATED:20250810T155059Z
LAST-MODIFIED:20250810T155059Z
UID:5414-1758477600-1758484800@geneseo.org
SUMMARY:Keep Marching Forward
DESCRIPTION:  \nSeptember is Suicide Prevention Month and we are honoring lives lost to suicide in the Quad Cities and outlying areas. Will you join us?\n\nThis annual event is hosted by The Gray Matters Collective and the Geneseo Park District to honor lives lost to suicide and continue the conversation about mental health awareness.\n\nWe will begin with a collective march (feel free to bring posters or other items). March will then be followed by suicide loss speakers\, performances\, a light ceremony\, and a resource fair.\n\nJoin us on Sunday\, September 21 from 6-8 pm for this impactful event. Held at the Geneseo Park District Athletic Field: 407 East North Street Geneseo\, IL 61254.\n\n** Event is free\, donations for suicide prevention efforts are welcome **
URL:https://geneseo.org/event/keep-marching-forward/
LOCATION:Geneseo Park District Athletic Field\, 407 East North Street\, Geneseo\, IL\, 61254\, United States
END:VEVENT
BEGIN:VEVENT
DTSTART;TZID=America/Chicago:20250920T080000
DTEND;TZID=America/Chicago:20250920T120000
DTSTAMP:20260425T055550
CREATED:20250623T161145Z
LAST-MODIFIED:20250623T161145Z
UID:5191-1758355200-1758369600@geneseo.org
SUMMARY:Geneseo Farmer's Market
DESCRIPTION:  \nThe Geneseo Farmer’s Market is a local farmer’s market.\nOur summer market is located on Pearl Street at the City Park in Geneseo.\nWhen: Every Saturday\, June – October\nTime: 8 a.m. to 12 p.m. \n 
URL:https://geneseo.org/event/geneseo-farmers-market-35/
LOCATION:Geneseo City Park\, 140 W. Pearl St.\, Geneseo\, IL\, 61254\, United States
END:VEVENT
BEGIN:VEVENT
DTSTART;TZID=America/Chicago:20250919T083000
DTEND;TZID=America/Chicago:20250919T123000
DTSTAMP:20260425T055550
CREATED:20250915T191242Z
LAST-MODIFIED:20250915T191242Z
UID:5532-1758270600-1758285000@geneseo.org
SUMMARY:Blood Drive at Hammond-Henry Hospital
DESCRIPTION:  \nGive the Gift of Life!Join us for a Blood Drive at Hammond-Henry Hospital in the Conference Room on Friday\, September 19th from 8:30 AM – 12:30 PM.Every donation helps save lives—and you can make a difference! Make an  appointment here:https://login.bloodcenter.org/…/drive_schedule/136766 \n 
URL:https://geneseo.org/event/blood-drive-at-hammond-henry-hospital-2/
LOCATION:Hammond-Henry Hospital\, 600 N. College Ave.\, Geneseo\, IL\, 61254\, United States
END:VEVENT
BEGIN:VEVENT
DTSTART;TZID=America/Chicago:20250919T073000
DTEND;TZID=America/Chicago:20250919T160000
DTSTAMP:20260425T055550
CREATED:20250915T185015Z
LAST-MODIFIED:20250915T185015Z
UID:5525-1758267000-1758297600@geneseo.org
SUMMARY:Book & Gift Sale
DESCRIPTION:  \n\nJoin the Hammond Henry Auxiliary on Friday\, September 19th from 7:30 AM – 4:00 PM for our annual Midwest Book & Gift Sale!  From books to unique gifts\, there’s something for everyone.\n\n\n\nBest part? All proceeds go directly back to the Hammond Henry Hospital Auxiliary\, supporting the care and programs that make a difference in our community.\n\n\n\nCome shop\, support\, and give back—all in one stop!\n\n 
URL:https://geneseo.org/event/book-and-gift-sale/
LOCATION:Hammond-Henry Hospital\, 600 N. College Ave.\, Geneseo\, IL\, 61254\, United States
END:VEVENT
BEGIN:VEVENT
DTSTART;TZID=America/Chicago:20250914T070000
DTEND;TZID=America/Chicago:20250914T170000
DTSTAMP:20260425T055550
CREATED:20250806T141300Z
LAST-MODIFIED:20250806T141300Z
UID:5392-1757833200-1757869200@geneseo.org
SUMMARY:64th Annual AETA Working Farm Show
DESCRIPTION:  \nThe Antique Engine & Tractor Association (AETA) hosts its annual three-day Working Farm Show\, always the second weekend after Labor Day. During this show\, the AETA harvest 40 acres of corn and soybeans with mid 1900’s equipment\, thresh oats or wheat\, run a saw mill\, plow\, dig potatoes\, ride the train\, and demonstrate gas engines as they were used from the early to mid-1900’s. The annual show gets bigger each year with hundreds of tractors\, garden tractors and many gas engines\, plus other agricultural memorabilia on the grounds. Every year the AETA features a different brand of antique tractor. \n 
URL:https://geneseo.org/event/aeta-working-farm-show/
LOCATION:Antique Engine & Tractor Association\, 13451 IL Hwy 92\, Geneseo\, IL\, 61254\, United States
END:VEVENT
BEGIN:VEVENT
DTSTART;TZID=America/Chicago:20250913T150000
DTEND;TZID=America/Chicago:20250913T200000
DTSTAMP:20260425T055550
CREATED:20250810T162902Z
LAST-MODIFIED:20250810T162902Z
UID:5430-1757775600-1757793600@geneseo.org
SUMMARY:Feeding Purpose Benefit
DESCRIPTION:  \nFor some\, “Fill a Plate” means hosting a sponsorship event at your church or workplace or participating in a full immersion mission trip. For others\, it involves investing in projects that establish fully staffed nutrition centers. At the 2025 Feeding Purpose Benefit\, we invite you to help build a secure future by supporting our organization\, allowing us to expand our reach.\n​\nYour investment as a Benefit Sponsor will connect more families\, providing them with the security they deserve and easing the burdens on their households. \nAs a sponsor\, you’ll gain an immersive insight into our work and have the opportunity to make a profound impact. 100% of the funds raised through the Feeding Purpose Benefit go directly to our programs; none of it is used to cover the event costs. \nWe can’t wait for you to join us on this powerful day of impact! \n  \n \n 
URL:https://geneseo.org/event/feeding-purpose-benefit-2/
LOCATION:Whispering Pines Geneseo\, 23590 Grange Rd.\, Geneseo\, IL\, 61254
END:VEVENT
BEGIN:VEVENT
DTSTART;TZID=America/Chicago:20250913T090000
DTEND;TZID=America/Chicago:20250913T150000
DTSTAMP:20260425T055550
CREATED:20250805T163547Z
LAST-MODIFIED:20250805T163945Z
UID:5371-1757754000-1757775600@geneseo.org
SUMMARY:"Fall in Love With Quilts" Quilt Show
DESCRIPTION:  \nThe Geneseo Quilt Guild presents our 2025 Quilt Show—  Fall in Love with Quilts with over 200 impressive quilts on display. Attendees will have the opportunity to vote on their favorite quilts on Friday\, with ribbons displayed on Saturday. Other highlights include a raffle for a quilt appraised at $4\,800\, featured quilter\, bed turning\, demonstrations\, vendors and on-site certified appraiser for quilt appraisals.The Show takes place at the Geneseo Community Center at 541 E. North St from 9am-5pm on Friday\, September 12th and 9am-3pm on Saturday\, September 13th. Proceeds from the show help fund the many Guild outreach projects. \n 
URL:https://geneseo.org/event/geneseo-quilt-show-2025-2/
LOCATION:Geneseo Community Center\, 541 E. North St.\, Geneseo\, IL\, 61254
END:VEVENT
BEGIN:VEVENT
DTSTART;TZID=America/Chicago:20250913T080000
DTEND;TZID=America/Chicago:20250913T170000
DTSTAMP:20260425T055550
CREATED:20250721T155342Z
LAST-MODIFIED:20250909T195809Z
UID:5314-1757750400-1757782800@geneseo.org
SUMMARY:Geneseo Fall City-Wide Garage Sales
DESCRIPTION:View a GPS map of the 2025 Geneseo Fall Garage Sales HERE: https://www.google.com/maps/d/u/0/edit?mid=1wvjm5IdPV1KW8tQeB0qLasi5-jeywmk&usp=sharing\n\nDownload a list of the 2025 Geneseo Fall Garage Sale List HERE: https://geneseo.org/wp-content/uploads/2025/09/2025_fall_garage_sales-1.pdf\n  \n \n  \n \n  \n \n  \nGeneseo is organizing its Fall City-Wide Garage Sales September 11-13\, 2025\, throughout town. Come to Geneseo and shop some great deals!\n\nPrinted copies of the garage sale lists are available at the Geneseo Chamber office\, located at 117 S. Oakwood Ave. inside of Geneseo City Hall\, call us at 309-944-2686\, or shoot us an email at geneseo@geneseo.org!
URL:https://geneseo.org/event/geneseo-fall-city-wide-garage-sales-4/
LOCATION:IL
END:VEVENT
BEGIN:VEVENT
DTSTART;TZID=America/Chicago:20250913T080000
DTEND;TZID=America/Chicago:20250913T160000
DTSTAMP:20260425T055550
CREATED:20250806T143609Z
LAST-MODIFIED:20250806T143609Z
UID:5394-1757750400-1757779200@geneseo.org
SUMMARY:Vintage Farm Equipment Show
DESCRIPTION:  \nCELEBRATING 10 YEARS IN 2025! \n  \n  \n \n  \n \n 
URL:https://geneseo.org/event/vintage-farm-equipment-show-3/
LOCATION:Bridge Park\, 19030 E. 2120 Street (Rock Island Ave.)\, Atkinson\, IL\, 61235\, United States
END:VEVENT
BEGIN:VEVENT
DTSTART;TZID=America/Chicago:20250913T080000
DTEND;TZID=America/Chicago:20250913T120000
DTSTAMP:20260425T055550
CREATED:20250623T161014Z
LAST-MODIFIED:20250623T161014Z
UID:5189-1757750400-1757764800@geneseo.org
SUMMARY:Geneseo Farmer's Market
DESCRIPTION:  \nThe Geneseo Farmer’s Market is a local farmer’s market.\nOur summer market is located on Pearl Street at the City Park in Geneseo.\nWhen: Every Saturday\, June – October\nTime: 8 a.m. to 12 p.m. \n 
URL:https://geneseo.org/event/geneseo-farmers-market-34/
LOCATION:Geneseo City Park\, 140 W. Pearl St.\, Geneseo\, IL\, 61254\, United States
END:VEVENT
BEGIN:VEVENT
DTSTART;TZID=America/Chicago:20250913T070000
DTEND;TZID=America/Chicago:20250913T170000
DTSTAMP:20260425T055550
CREATED:20250810T162135Z
LAST-MODIFIED:20250810T162135Z
UID:5426-1757746800-1757782800@geneseo.org
SUMMARY:Tour of the Heartland
DESCRIPTION:  \nTOUR OF THE HEARTLANDHosted by the Quad Cities Bicycle Club\nGeneseo Brewing Company\, Geneseo\, ILSaturday\, September 13\, 2025Course Opens at 7:00 AM | Support Ends at 4:30 PM\n\nRide for a CauseProceeds benefit the SEAL Legacy FoundationSupport veterans while enjoying a scenic ride through the Illinois countryside!\n\nChoose Your ChallengePick 1 or ride all four 25-mile loops—you decide your distance!Each loop starts and ends at a central hub with a well-stocked SAG station.\n\nRide. Refuel. Relax.Enjoy lunch and live music in the afternoon at the brewery!\n\nRegistration:$75 General Admission$70 for QCBC Members\n\nRegister Now & Ride with US: https://qcbc.org/content.aspx?page_id=4091&club_id=505193&item_id=2656219\n  \n \n 
URL:https://geneseo.org/event/tour-of-the-heartland/
LOCATION:Geneseo Brewing Co.\, 102 S. State St.\, Geneseo\, IL\, 61254\, United States
END:VEVENT
BEGIN:VEVENT
DTSTART;TZID=America/Chicago:20250913T070000
DTEND;TZID=America/Chicago:20250913T170000
DTSTAMP:20260425T055550
CREATED:20250806T141038Z
LAST-MODIFIED:20250806T141038Z
UID:5390-1757746800-1757782800@geneseo.org
SUMMARY:64th Annual AETA Working Farm Show
DESCRIPTION:  \nThe Antique Engine & Tractor Association (AETA) hosts its annual three-day Working Farm Show\, always the second weekend after Labor Day. During this show\, the AETA harvest 40 acres of corn and soybeans with mid 1900’s equipment\, thresh oats or wheat\, run a saw mill\, plow\, dig potatoes\, ride the train\, and demonstrate gas engines as they were used from the early to mid-1900’s. The annual show gets bigger each year with hundreds of tractors\, garden tractors and many gas engines\, plus other agricultural memorabilia on the grounds. Every year the AETA features a different brand of antique tractor. \n  \n \n 
URL:https://geneseo.org/event/64th-annual-aeta-working-farm-show-2/
LOCATION:Antique Engine & Tractor Association\, 13451 IL Hwy 92\, Geneseo\, IL\, 61254\, United States
END:VEVENT
BEGIN:VEVENT
DTSTART;TZID=America/Chicago:20250912T190000
DTEND;TZID=America/Chicago:20250912T220000
DTSTAMP:20260425T055550
CREATED:20250603T121213Z
LAST-MODIFIED:20250603T121213Z
UID:5101-1757703600-1757714400@geneseo.org
SUMMARY:Live Music: Rabbit Hole
DESCRIPTION:  \n \n  \nHead out to the Central Bank Pavilion Saturday\, September 12th at 7:00 PM to jam out to Rabbit Hole\, the Band! Bring your friends to experience danceable rock and pop from 5 decades!
URL:https://geneseo.org/event/live-music-rabbit-hole-2/
LOCATION:Central Bank Pavilion\, 218 N. State St.\, Geneseo\, IL\, 61254
END:VEVENT
BEGIN:VEVENT
DTSTART;TZID=America/Chicago:20250912T090000
DTEND;TZID=America/Chicago:20250912T170000
DTSTAMP:20260425T055550
CREATED:20250805T163340Z
LAST-MODIFIED:20250805T164015Z
UID:5368-1757667600-1757696400@geneseo.org
SUMMARY:"Fall in Love with Quilts" Quilt Show
DESCRIPTION:  \nThe Geneseo Quilt Guild presents our 2025 Quilt Show—  Fall in Love with Quilts with over 200 impressive quilts on display. Attendees will have the opportunity to vote on their favorite quilts on Friday\, with ribbons displayed on Saturday. Other highlights include a raffle for a quilt appraised at $4\,800\, featured quilter\, bed turning\, demonstrations\, vendors and on-site certified appraiser for quilt appraisals.The Show takes place at the Geneseo Community Center at 541 E. North St from 9am-5pm on Friday\, September 12th and 9am-3pm on Saturday\, September 13th. Proceeds from the show help fund the many Guild outreach projects. \n 
URL:https://geneseo.org/event/geneseo-quilt-show-2025/
LOCATION:Geneseo Community Center\, 541 E. North St.\, Geneseo\, IL\, 61254
END:VEVENT
BEGIN:VEVENT
DTSTART;TZID=America/Chicago:20250912T080000
DTEND;TZID=America/Chicago:20250912T170000
DTSTAMP:20260425T055550
CREATED:20250721T155230Z
LAST-MODIFIED:20250909T195614Z
UID:5312-1757664000-1757696400@geneseo.org
SUMMARY:Geneseo Fall City-Wide Garage Sales
DESCRIPTION:View a GPS map of the 2025 Geneseo Fall Garage Sales HERE: https://www.google.com/maps/d/u/0/edit?mid=1wvjm5IdPV1KW8tQeB0qLasi5-jeywmk&usp=sharing\n\nDownload a list of the 2025 Geneseo Fall Garage Sale List HERE: https://geneseo.org/wp-content/uploads/2025/09/2025_fall_garage_sales-1.pdf\n\n\n\n\n\n\n\n\n\n\nGeneseo is organizing its Fall City-Wide Garage Sales September 11-13\, 2025\, throughout town. Come to Geneseo and shop some great deals!\n\nPrinted copies of the garage sale lists are available at the Geneseo Chamber office\, located at 117 S. Oakwood Ave. inside of Geneseo City Hall\, call us at 309-944-2686\, or shoot us an email at geneseo@geneseo.org!
URL:https://geneseo.org/event/geneseo-fall-city-wide-garage-sales-3/
LOCATION:IL
END:VEVENT
BEGIN:VEVENT
DTSTART;TZID=America/Chicago:20250912T070000
DTEND;TZID=America/Chicago:20250912T170000
DTSTAMP:20260425T055550
CREATED:20250806T140751Z
LAST-MODIFIED:20250806T140751Z
UID:5383-1757660400-1757696400@geneseo.org
SUMMARY:64th Annual AETA Working Farm Show
DESCRIPTION:  \nThe Antique Engine & Tractor Association (AETA) hosts its annual three-day Working Farm Show\, always the second weekend after Labor Day. During this show\, the AETA harvest 40 acres of corn and soybeans with mid 1900’s equipment\, thresh oats or wheat\, run a saw mill\, plow\, dig potatoes\, ride the train\, and demonstrate gas engines as they were used from the early to mid-1900’s. The annual show gets bigger each year with hundreds of tractors\, garden tractors and many gas engines\, plus other agricultural memorabilia on the grounds. Every year the AETA features a different brand of antique tractor. \n  \n \n 
URL:https://geneseo.org/event/64th-annual-aeta-working-farm-show/
LOCATION:Antique Engine & Tractor Association\, 13451 IL Hwy 92\, Geneseo\, IL\, 61254\, United States
END:VEVENT
BEGIN:VEVENT
DTSTART;TZID=America/Chicago:20250911T080000
DTEND;TZID=America/Chicago:20250911T170000
DTSTAMP:20260425T055550
CREATED:20250721T154951Z
LAST-MODIFIED:20250909T195927Z
UID:5309-1757577600-1757610000@geneseo.org
SUMMARY:Geneseo Fall City-Wide Garage Sales
DESCRIPTION:View a GPS map of the 2025 Geneseo Fall Garage Sales HERE: https://www.google.com/maps/d/u/0/edit?mid=1wvjm5IdPV1KW8tQeB0qLasi5-jeywmk&usp=sharing\n\nDownload a list of the 2025 Geneseo Fall Garage Sale List HERE: https://geneseo.org/wp-content/uploads/2025/09/2025_fall_garage_sales-1.pdf\n  \n \n  \n \n  \n \n  \n\nGeneseo is organizing its Fall City-Wide Garage Sales September 11-13\, 2025\, throughout town. Come to Geneseo and shop some great deals!\n\nPrinted lists of the garage sales are available at 309-944-2686\, or shoot us an email at geneseo@geneseo.org!
URL:https://geneseo.org/event/geneseo-fall-city-wide-garage-sales-2/
LOCATION:IL
END:VEVENT
BEGIN:VEVENT
DTSTART;TZID=America/Chicago:20250906T160000
DTEND;TZID=America/Chicago:20250906T190000
DTSTAMP:20260425T055550
CREATED:20250810T161109Z
LAST-MODIFIED:20250810T161109Z
UID:5422-1757174400-1757185200@geneseo.org
SUMMARY:Ham and Bean Supper Fundraiser
DESCRIPTION:  \nThe Izaak Walton League – Geneseo Chapter Ham and Bean Supper Fundraiser is a public fundraiser event. Tickets are available from Chapter Members or at the Door. \n  \n \n 
URL:https://geneseo.org/event/ham-and-bean-supper-fundraiser/
LOCATION:Izaak Walton League of Geneseo\, 22870 IL Hwy 82\, Geneseo\, IL\, 61254
END:VEVENT
BEGIN:VEVENT
DTSTART;TZID=America/Chicago:20250906T090000
DTEND;TZID=America/Chicago:20250906T150000
DTSTAMP:20260425T055550
CREATED:20250629T144153Z
LAST-MODIFIED:20250906T122935Z
UID:5261-1757149200-1757170800@geneseo.org
SUMMARY:Trains\, Planes & Automobiles - Maple City Cruisers Car Show
DESCRIPTION:The Geneseo Chamber of Commerce\, Maple City Cruisers\, Gen-Airpark\, Erie RC Club\, and the Geneseo Model Railroaders announce the 19th Annual Trains\, Planes & Automobiles Festival\, taking place on September 4-6\, 2025. The Maple City Cruiser’s popular downtown car show is scheduled for Saturday September 6\, 2025.\n\n\n19th Annual Trains\, Planes & Automobiles SCHEDULE\n\nSaturday\, September 6thDowntown Geneseo 9 a.m. – 3 p.m.TPA Car Show – Train Display – Airplane Display – No Pets Please• Maple City Cruisers Car Show\, Free show\, Donations accepted• 7 a.m. – 11 a.m. registration. Dash Plaques to first 300 entries\, goody bags to first 300 entries.• 7 a.m. – 3 p.m. Music provided by 3D Sound.• 9 a.m. – 3 p.m. Operating Model Train Display by Geneseo Model Railroaders at 154 E. Exchange St.• 11 a.m. Youth Pedal Car Parade\, meet at The Cellar at 10:45 a.m.• 12 p.m. Salute to America – VFW Color Guard\, airplane fly-over.• 2 p.m. Trophy Awards & Geneseo Chamber 50/50 Raffle Drawing\, Car show ends at 3:00 pm \n  \n \n 
URL:https://geneseo.org/event/trains-planes-automobiles-maple-city-cruisers-car-show/
LOCATION:Downtown Geneseo
ORGANIZER;CN="Geneseo Chamber of Commerce":MAILTO:geneseo@geneseo.org
END:VEVENT
BEGIN:VEVENT
DTSTART;TZID=America/Chicago:20250906T080000
DTEND;TZID=America/Chicago:20250906T120000
DTSTAMP:20260425T055550
CREATED:20250623T160840Z
LAST-MODIFIED:20250623T160840Z
UID:5187-1757145600-1757160000@geneseo.org
SUMMARY:Geneseo Farmer's Market
DESCRIPTION:  \nThe Geneseo Farmer’s Market is a local farmer’s market.\nOur summer market is located on Pearl Street at the City Park in Geneseo.\nWhen: Every Saturday\, June – October\nTime: 8 a.m. to 12 p.m. \n  \n \n 
URL:https://geneseo.org/event/geneseo-farmers-market-33/
LOCATION:Geneseo City Park\, 140 W. Pearl St.\, Geneseo\, IL\, 61254\, United States
END:VEVENT
BEGIN:VEVENT
DTSTART;TZID=America/Chicago:20250906T070000
DTEND;TZID=America/Chicago:20250906T110000
DTSTAMP:20260425T055550
CREATED:20250801T161452Z
LAST-MODIFIED:20250801T161452Z
UID:5363-1757142000-1757156400@geneseo.org
SUMMARY:2025 Geneseo 9/11 Memorial Stair Climb
DESCRIPTION:  \n \n 
URL:https://geneseo.org/event/2025-geneseo-9-11-memorial-stair-climb/
LOCATION:Bob Reade Field – Geneseo High School\, 700 N. State St.\, Geneseo\, IL\, 61254\, United States
END:VEVENT
BEGIN:VEVENT
DTSTART;TZID=America/Chicago:20250905T180000
DTEND;TZID=America/Chicago:20250905T220000
DTSTAMP:20260425T055550
CREATED:20250630T201032Z
LAST-MODIFIED:20250706T135500Z
UID:5279-1757095200-1757109600@geneseo.org
SUMMARY:TPA Pre-Party hosted by: Erdman Construction
DESCRIPTION:  \n**** PARTY OPEN TO THE PUBLIC **** \nWe’re thrilled to announce our Second Annual Client Appreciation / Trains Planes Automobiles (TPA) Pre-Party—and this year\, we’re turning up the fun! Join us for an evening of great food\, and live music from the incredible SOUL CAGE! \nFriday\, September 5\, 2025\n6:00 PM\n101 S. Chicago St\, Geneseo\, IL \nThis is our way of saying THANK YOU to our amazing clients\, partners\, and friends who make our work possible. Don’t miss out—RSVP details coming soon! \n\n  \n \n 
URL:https://geneseo.org/event/tpa-pre-party-hosted-by-erdman-construction/
LOCATION:Erdman Construction\, 101 S. Chicago St.\, GENESEO\, IL\, 61254\, United States
END:VEVENT
BEGIN:VEVENT
DTSTART;TZID=America/Chicago:20250905T090000
DTEND;TZID=America/Chicago:20250905T150000
DTSTAMP:20260425T055550
CREATED:20250619T185649Z
LAST-MODIFIED:20250629T151647Z
UID:5161-1757062800-1757084400@geneseo.org
SUMMARY:Trains\, Planes & Automobiles - Cruise The Canal Tours
DESCRIPTION:The Geneseo Chamber of Commerce\, Maple City Cruisers\, Gen-Airpark\, Erie RC Club\, and the Geneseo Model Railroaders announce the 19th Annual Trains\, Planes & Automobiles Festival\, taking place on September 4-6\, 2025. The Maple City Cruiser’s popular downtown car show is scheduled for Saturday September 6\, 2025.\n\n19th Annual Trains\, Planes & Automobiles SCHEDULE\nFriday\, September 5thCruise the Canal from Hennepin Canal Lock #24 to Lock #26 and back.• 9 a.m.\, 11 a.m. and 1 p.m. Enjoy historic tours of the Hennepin Canal.• Tours end at approx. 3:00 pm.• Reservations Required. $30 per person. Includes golf cart (driven by you) and guided tour of the Canal.• Cart drivers must have a valid drivers license. Reservations: Geneseo Chamber 309-944-2686.\n\n \n  \n \n 
URL:https://geneseo.org/event/trains-planes-automobiles-cruise-the-canal-tours/
LOCATION:Hennepin Canal State Parkway Lock #24
END:VEVENT
BEGIN:VEVENT
DTSTART;TZID=America/Chicago:20250904T110000
DTEND;TZID=America/Chicago:20250904T140000
DTSTAMP:20260425T055550
CREATED:20250619T184817Z
LAST-MODIFIED:20250629T144219Z
UID:5157-1756983600-1756994400@geneseo.org
SUMMARY:Trains\, Planes\, & Automobiles - Stearman Fly-In
DESCRIPTION:The Geneseo Chamber of Commerce\, Maple City Cruisers\, Gen-Airpark\, Erie RC Club\, and the Geneseo Model Railroaders announce the 19th Annual Trains\, Planes & Automobiles Festival\, taking place on September 4-6\, 2025. The Maple City Cruiser’s popular downtown car show is scheduled for Saturday September 6\, 2025.\n\n\n19th Annual Trains\, Planes & Automobiles SCHEDULE\nThursday\, September 4thStearman Fly-In at Gen-Airpark 11 a.m. – 2 p.m.• Gen-Air Park is hosting the annual Stearman Fly-In\, located on Rt. 6 east of Geneseo• Experience the sights and sounds of WWII Stearman bi-planes. Absolutely No Pets. \n\n \n 
URL:https://geneseo.org/event/trains-planes-automobiles-stearman-fly-in/
LOCATION:Gen-Airpark\, 20035 E 1700th St.\, Geneseo\, IL\, 61254\, United States
END:VEVENT
BEGIN:VEVENT
DTSTART;TZID=America/Chicago:20250830T190000
DTEND;TZID=America/Chicago:20250830T210000
DTSTAMP:20260425T055550
CREATED:20250603T121024Z
LAST-MODIFIED:20250603T121024Z
UID:5098-1756580400-1756587600@geneseo.org
SUMMARY:Live Music: Incredible 45's
DESCRIPTION:  \n \n  \nGet excited for the “Incredible 45’s!” Join us on Saturday\, August 30th\, 7-9 PM. Come out to the Central Bank Pavilion for some good old fashion classics!
URL:https://geneseo.org/event/live-music-incredible-45s-2/
LOCATION:Central Bank Pavilion\, 218 N. State St.\, Geneseo\, IL\, 61254
END:VEVENT
BEGIN:VEVENT
DTSTART;TZID=America/Chicago:20250830T080000
DTEND;TZID=America/Chicago:20250830T120000
DTSTAMP:20260425T055550
CREATED:20250623T160641Z
LAST-MODIFIED:20250623T160641Z
UID:5185-1756540800-1756555200@geneseo.org
SUMMARY:Geneseo Farmer's Market
DESCRIPTION:  \nThe Geneseo Farmer’s Market is a local farmer’s market.\nOur summer market is located on Pearl Street at the City Park in Geneseo.\nWhen: Every Saturday\, June – October\nTime: 8 a.m. to 12 p.m. \n 
URL:https://geneseo.org/event/geneseo-farmers-market-32/
LOCATION:Geneseo City Park\, 140 W. Pearl St.\, Geneseo\, IL\, 61254\, United States
END:VEVENT
END:VCALENDAR