BEGIN:VCALENDAR
VERSION:2.0
PRODID:-//Geneseo Chamber of Commerce - ECPv6.14.1//NONSGML v1.0//EN
CALSCALE:GREGORIAN
METHOD:PUBLISH
X-WR-CALNAME:Geneseo Chamber of Commerce
X-ORIGINAL-URL:https://geneseo.org
X-WR-CALDESC:Events for Geneseo Chamber of Commerce
REFRESH-INTERVAL;VALUE=DURATION:PT1H
X-Robots-Tag:noindex
X-PUBLISHED-TTL:PT1H
BEGIN:VTIMEZONE
TZID:America/Chicago
BEGIN:DAYLIGHT
TZOFFSETFROM:-0600
TZOFFSETTO:-0500
TZNAME:CDT
DTSTART:20250309T080000
END:DAYLIGHT
BEGIN:STANDARD
TZOFFSETFROM:-0500
TZOFFSETTO:-0600
TZNAME:CST
DTSTART:20251102T070000
END:STANDARD
BEGIN:DAYLIGHT
TZOFFSETFROM:-0600
TZOFFSETTO:-0500
TZNAME:CDT
DTSTART:20260308T080000
END:DAYLIGHT
BEGIN:STANDARD
TZOFFSETFROM:-0500
TZOFFSETTO:-0600
TZNAME:CST
DTSTART:20261101T070000
END:STANDARD
END:VTIMEZONE
BEGIN:VEVENT
DTSTART;TZID=America/Chicago:20260314T120000
DTEND;TZID=America/Chicago:20260314T150000
DTSTAMP:20260422T100049
CREATED:20251028T140445Z
LAST-MODIFIED:20251028T140445Z
UID:5792-1773489600-1773500400@geneseo.org
SUMMARY:Geneseo Farmer's Market - Indoor Market
DESCRIPTION:  \nThe Geneseo Farmer’s Market has moved indoors for the winter season! Many of our summer market vendors continue to sell their homemade and crafted items. We also have vendors that set up at our market only during our indoor season. Check us out during one of our monthly events! \n 
URL:https://geneseo.org/event/geneseo-farmers-market-indoor-market-4/
LOCATION:Geneseo Moose Lodge #990\, 1025 S. State St.\, Geneseo\, IL\, 61254\, United States
END:VEVENT
BEGIN:VEVENT
DTSTART;TZID=America/Chicago:20260307T170000
DTEND;TZID=America/Chicago:20260307T220000
DTSTAMP:20260422T100049
CREATED:20251230T173803Z
LAST-MODIFIED:20251230T173803Z
UID:5992-1772902800-1772920800@geneseo.org
SUMMARY:52nd Annual St. Malachy Car Party
DESCRIPTION:  \nJoin us on Saturday\, March 7th for the 52nd Annual St. Malachy Car Party — a night of fun\, nostalgia\, and non-stop entertainment!\n\nCome dressed in your favorite decade and hit the dance floor as Corporate Rock keeps the party going with classic hits from every era.\n\nEnjoy a delicious catered dinner\, exciting silent and live auctions\, a 50/50 raffle\, and your shot at winning $10\,000!\n\nIt’s going to be a night to remember — so dust off your bell bottoms\, tease that hair\, or polish those platform shoes and let’s dance through the decades together to raise money for St. Malachy School!\n\nVisit https://carparty.cbo.io to purchase tickets\, explore sponsorship opportunities\, make a donation\, or find additional details about the event!
URL:https://geneseo.org/event/52nd-annual-st-malachy-car-party/
LOCATION:St. Malachy’s Catholic Church\, 595 E. Ogden Avenue\, Geneseo\, IL\, 61254\, United States
END:VEVENT
BEGIN:VEVENT
DTSTART;TZID=America/Chicago:20260214T120000
DTEND;TZID=America/Chicago:20260214T150000
DTSTAMP:20260422T100049
CREATED:20251028T140220Z
LAST-MODIFIED:20251028T140220Z
UID:5789-1771070400-1771081200@geneseo.org
SUMMARY:Geneseo Farmer's Market - Indoor Market
DESCRIPTION:  \nThe Geneseo Farmer’s Market has moved indoors for the winter season! Many of our summer market vendors continue to sell their homemade and crafted items. We also have vendors that set up at our market only during our indoor season. Check us out during one of our monthly events! \n 
URL:https://geneseo.org/event/geneseo-farmers-market-indoor-market-3/
LOCATION:Geneseo Moose Lodge #990\, 1025 S. State St.\, Geneseo\, IL\, 61254\, United States
END:VEVENT
BEGIN:VEVENT
DTSTART;TZID=America/Chicago:20260129T180000
DTEND;TZID=America/Chicago:20260129T200000
DTSTAMP:20260422T100049
CREATED:20251230T171907Z
LAST-MODIFIED:20251230T171907Z
UID:5984-1769709600-1769716800@geneseo.org
SUMMARY:Step Brothers Trivia Night
DESCRIPTION:  \n“Did we just become best friends?”\nStep Brothers Trivia NightThursday\, January 29th @ 6pmRaelyn’s Pub & Eatery (Geneseo\, IL)\n\nFREE To PlayWin House Cash!ALL AGES\nGet there EARLY to get a table!
URL:https://geneseo.org/event/step-brothers-trivia-night/
LOCATION:Raelyn’s Pub & Eatery\, 217 N. State St.\, Geneseo\, IL\, 61254\, United States
END:VEVENT
BEGIN:VEVENT
DTSTART;TZID=America/Chicago:20260122T180000
DTEND;TZID=America/Chicago:20260122T200000
DTSTAMP:20260422T100049
CREATED:20251230T172615Z
LAST-MODIFIED:20251230T172615Z
UID:5989-1769104800-1769112000@geneseo.org
SUMMARY:Pour Some 80's On Me Music Bingo
DESCRIPTION:80’s Music Bingo (featuring Def Leppard)Thursday\, January 22nd @ 6pmRaelyn’s Pub & Eatery (Geneseo\, IL)\n\nCome relive the best and worst of the 80’s music!\nFeaturing Def Leppard\, Duran Duran\, The B-52’s\, Madonna\, and Much More!\n\nFREE To PlayWin FREE prizes!ALL AGES\nGet there EARLY to get a table!
URL:https://geneseo.org/event/pour-some-80s-on-me-music-bingo/
LOCATION:Raelyn’s Pub & Eatery\, 217 N. State St.\, Geneseo\, IL\, 61254\, United States
END:VEVENT
BEGIN:VEVENT
DTSTART;TZID=America/Chicago:20260117T160000
DTEND;TZID=America/Chicago:20260117T200000
DTSTAMP:20260422T100049
CREATED:20251120T203132Z
LAST-MODIFIED:20251120T203132Z
UID:5892-1768665600-1768680000@geneseo.org
SUMMARY:Exit 7 Motorsports Park 2025 Season Banquet
DESCRIPTION:  \nAttention in the pits here is our flyer for the 2025 banquet we will have a short drivers meeting before the banquet. Join us for a night of fun as part our Exit 7 family. We will give you updates about the up coming season and have a great night! \n 
URL:https://geneseo.org/event/exit-7-motorsports-park-2025-season-banquet/
LOCATION:Colona American Legion\, 312 Broadway St.\, Colona\, IL\, 61241\, United States
END:VEVENT
BEGIN:VEVENT
DTSTART;TZID=America/Chicago:20260115T183000
DTEND;TZID=America/Chicago:20260115T200000
DTSTAMP:20260422T100049
CREATED:20251211T201424Z
LAST-MODIFIED:20251211T201424Z
UID:5953-1768501800-1768507200@geneseo.org
SUMMARY:Farm Succession Seminar
DESCRIPTION: 
URL:https://geneseo.org/event/farm-succession-seminar-3/
LOCATION:Camden Centre\, 2701 1st St E\, Milan\, IL\, 61264\, United States
END:VEVENT
BEGIN:VEVENT
DTSTART;TZID=America/Chicago:20260115T180000
DTEND;TZID=America/Chicago:20260115T200000
DTSTAMP:20260422T100049
CREATED:20251230T171312Z
LAST-MODIFIED:20251230T171358Z
UID:5979-1768500000-1768507200@geneseo.org
SUMMARY:Harry Potter and the Night of Trivia
DESCRIPTION:  \nHead Back to Hogwarts!\nHarry Potter and the Night of TriviaThursday\, January 15th @ 6pmRaelyn’s Pub & Eatery (Geneseo\, IL)\n\nFREE To PlayWin House CashALL AGES\nGet there EARLY to get a table!\n\n\n 
URL:https://geneseo.org/event/5979/
LOCATION:Raelyn’s Pub & Eatery\, 217 N. State St.\, Geneseo\, IL\, 61254\, United States
END:VEVENT
BEGIN:VEVENT
DTSTART;TZID=America/Chicago:20260114T183000
DTEND;TZID=America/Chicago:20260114T200000
DTSTAMP:20260422T100049
CREATED:20251211T201042Z
LAST-MODIFIED:20251211T201453Z
UID:5950-1768415400-1768420800@geneseo.org
SUMMARY:Farm Succession Seminar
DESCRIPTION: 
URL:https://geneseo.org/event/farm-succession-seminar-2/
LOCATION:Cambria Hotel\, 5061 Competition Dr.\, Bettendorf\, IA\, 52722\, United States
END:VEVENT
BEGIN:VEVENT
DTSTART;TZID=America/Chicago:20260113T183000
DTEND;TZID=America/Chicago:20260113T200000
DTSTAMP:20260422T100049
CREATED:20251211T195956Z
LAST-MODIFIED:20251211T200725Z
UID:5944-1768329000-1768334400@geneseo.org
SUMMARY:Farm Succession Seminar
DESCRIPTION: 
URL:https://geneseo.org/event/farm-succession-seminar/
LOCATION:Hampton Heritage Center\, 251 S. State St.\, Hampton\, IL\, 61256\, United States
END:VEVENT
BEGIN:VEVENT
DTSTART;TZID=America/Chicago:20260112T170000
DTEND;TZID=America/Chicago:20260112T190000
DTSTAMP:20260422T100049
CREATED:20251230T170018Z
LAST-MODIFIED:20251230T170018Z
UID:5971-1768237200-1768244400@geneseo.org
SUMMARY:McTeacher Night
DESCRIPTION:  \nOn Monday January 12\, Geneseo McDonald’s is partnering with ExCEL School to host a McTeacher Night! From 5-7pm\, 20% of sales will come directly back to the Wolfpack! Come on out and support ExCEL\, all you have to do is grab a bite to eat! \n 
URL:https://geneseo.org/event/mcteacher-night/
LOCATION:McDonald’s of Geneseo\, 1022 S. Oakwood Ave.\, Geneseo\, IL\, 61254\, United States
END:VEVENT
BEGIN:VEVENT
DTSTART;TZID=America/Chicago:20260108T180000
DTEND;TZID=America/Chicago:20260108T200000
DTSTAMP:20260422T100049
CREATED:20251230T172228Z
LAST-MODIFIED:20251230T172228Z
UID:5986-1767895200-1767902400@geneseo.org
SUMMARY:90's Music Bingo - No Scrubs Edition
DESCRIPTION:  \n90’s Music Bingo: No Scrubs EditionThursday\, January 8th @ 6pmRaelyn’s Pub & Eatery (Geneseo\, IL)\n\nFREE To PlayWin FREE prizes!ALL AGES
URL:https://geneseo.org/event/90s-music-bingo-no-scrubs-edition-2/
LOCATION:Raelyn’s Pub & Eatery\, 217 N. State St.\, Geneseo\, IL\, 61254\, United States
END:VEVENT
BEGIN:VEVENT
DTSTART;TZID=America/Chicago:20260103T190000
DTEND;TZID=America/Chicago:20260103T220000
DTSTAMP:20260422T100049
CREATED:20251230T164904Z
LAST-MODIFIED:20251230T164904Z
UID:5967-1767466800-1767477600@geneseo.org
SUMMARY:LIVE MUSIC - Ruby & Donovan
DESCRIPTION:  \nRuby & Donovan are back at Geneseo Brewing Company to kick off 2026! Grab dinner\, brews and listen to live music!
URL:https://geneseo.org/event/live-music-ruby-donovan/
LOCATION:Geneseo Brewing Co.\, 102 S. State St.\, Geneseo\, IL\, 61254\, United States
END:VEVENT
BEGIN:VEVENT
DTSTART;TZID=America/Chicago:20260101T140000
DTEND;TZID=America/Chicago:20260101T200000
DTSTAMP:20260422T100049
CREATED:20251202T145857Z
LAST-MODIFIED:20251202T145857Z
UID:5921-1767276000-1767297600@geneseo.org
SUMMARY:Joy To The World Nativity Display
DESCRIPTION:  \nCome enjoy the Joy To The World Nativity Display\, on display at St. Malachy Parish\, located at 539 E. Ogden Ave. \nThe display features almost 500 nativity scenes and is open from 2:00 pm to 8:00 pm December 26\, 2025 through January 1\, 2026. \nFree will donations will be accepted\, benefitting the St. Malachy Altar & Rosary Society. \n 
URL:https://geneseo.org/event/joy-to-the-world-nativity-display-7/
LOCATION:St. Malachy’s Catholic Church\, 595 E. Ogden Avenue\, Geneseo\, IL\, 61254\, United States
END:VEVENT
BEGIN:VEVENT
DTSTART;TZID=America/Chicago:20251231T140000
DTEND;TZID=America/Chicago:20251231T200000
DTSTAMP:20260422T100049
CREATED:20251202T145658Z
LAST-MODIFIED:20251202T145658Z
UID:5919-1767189600-1767211200@geneseo.org
SUMMARY:Joy To The World Nativity Display
DESCRIPTION:  \nCome enjoy the Joy To The World Nativity Display\, on display at St. Malachy Parish\, located at 539 E. Ogden Ave. \nThe display features almost 500 nativity scenes and is open from 2:00 pm to 8:00 pm December 26\, 2025 through January 1\, 2026. \nFree will donations will be accepted\, benefitting the St. Malachy Altar & Rosary Society. \n 
URL:https://geneseo.org/event/joy-to-the-world-nativity-display-6/
LOCATION:St. Malachy’s Catholic Church\, 595 E. Ogden Avenue\, Geneseo\, IL\, 61254\, United States
END:VEVENT
BEGIN:VEVENT
DTSTART;TZID=America/Chicago:20251231T110000
DTEND;TZID=America/Chicago:20251231T123000
DTSTAMP:20260422T100049
CREATED:20251120T203753Z
LAST-MODIFIED:20251120T203829Z
UID:5896-1767178800-1767184200@geneseo.org
SUMMARY:Noon Year's Celebration
DESCRIPTION:  \nThe perfect New Year’s celebration for all ages! Complete with a balloon drop\, face painting\, activities\, snacks\, and drinks\, all ages can come celebrate the new year without staying up too late or losing quality sleep. Let’s celebrate the New Year at NOON together! \n 
URL:https://geneseo.org/event/noon-years-celebration/
LOCATION:Geneseo Evangelical Free Church\, 914 N. Chicago St\, Geneseo\, IL\, 61254\, United States
END:VEVENT
BEGIN:VEVENT
DTSTART;TZID=America/Chicago:20251230T140000
DTEND;TZID=America/Chicago:20251230T200000
DTSTAMP:20260422T100049
CREATED:20251202T145532Z
LAST-MODIFIED:20251202T145532Z
UID:5917-1767103200-1767124800@geneseo.org
SUMMARY:Joy To The World Nativity Display
DESCRIPTION:  \nCome enjoy the Joy To The World Nativity Display\, on display at St. Malachy Parish\, located at 539 E. Ogden Ave. \nThe display features almost 500 nativity scenes and is open from 2:00 pm to 8:00 pm December 26\, 2025 through January 1\, 2026. \nFree will donations will be accepted\, benefitting the St. Malachy Altar & Rosary Society. \n 
URL:https://geneseo.org/event/joy-to-the-world-nativity-display-5/
LOCATION:St. Malachy’s Catholic Church\, 595 E. Ogden Avenue\, Geneseo\, IL\, 61254\, United States
END:VEVENT
BEGIN:VEVENT
DTSTART;TZID=America/Chicago:20251229T140000
DTEND;TZID=America/Chicago:20251229T200000
DTSTAMP:20260422T100049
CREATED:20251202T144602Z
LAST-MODIFIED:20251202T144602Z
UID:5915-1767016800-1767038400@geneseo.org
SUMMARY:Joy To The World Nativity Display
DESCRIPTION:  \nCome enjoy the Joy To The World Nativity Display\, on display at St. Malachy Parish\, located at 539 E. Ogden Ave. \nThe display features almost 500 nativity scenes and is open from 2:00 pm to 8:00 pm December 26\, 2025 through January 1\, 2026. \nFree will donations will be accepted\, benefitting the St. Malachy Altar & Rosary Society. \n 
URL:https://geneseo.org/event/joy-to-the-world-nativity-display-4/
LOCATION:St. Malachy’s Catholic Church\, 595 E. Ogden Avenue\, Geneseo\, IL\, 61254\, United States
END:VEVENT
BEGIN:VEVENT
DTSTART;TZID=America/Chicago:20251228T140000
DTEND;TZID=America/Chicago:20251228T200000
DTSTAMP:20260422T100049
CREATED:20251202T144338Z
LAST-MODIFIED:20251202T144338Z
UID:5913-1766930400-1766952000@geneseo.org
SUMMARY:Joy To The World Nativity Display
DESCRIPTION:  \nCome enjoy the Joy To The World Nativity Display\, on display at St. Malachy Parish\, located at 539 E. Ogden Ave. \nThe display features almost 500 nativity scenes and is open from 2:00 pm to 8:00 pm December 26\, 2025 through January 1\, 2026. \nFree will donations will be accepted\, benefitting the St. Malachy Altar & Rosary Society. \n 
URL:https://geneseo.org/event/joy-to-the-world-nativity-display-3/
LOCATION:St. Malachy’s Catholic Church\, 595 E. Ogden Avenue\, Geneseo\, IL\, 61254\, United States
END:VEVENT
BEGIN:VEVENT
DTSTART;TZID=America/Chicago:20251227T140000
DTEND;TZID=America/Chicago:20251227T200000
DTSTAMP:20260422T100049
CREATED:20251202T144201Z
LAST-MODIFIED:20251202T144201Z
UID:5911-1766844000-1766865600@geneseo.org
SUMMARY:Joy To The World Nativity Display
DESCRIPTION:  \nCome enjoy the Joy To The World Nativity Display\, on display at St. Malachy Parish\, located at 539 E. Ogden Ave. \nThe display features almost 500 nativity scenes and is open from 2:00 pm to 8:00 pm December 26\, 2025 through January 1\, 2026. \nFree will donations will be accepted\, benefitting the St. Malachy Altar & Rosary Society. \n 
URL:https://geneseo.org/event/joy-to-the-world-nativity-display-2/
LOCATION:St. Malachy’s Catholic Church\, 595 E. Ogden Avenue\, Geneseo\, IL\, 61254\, United States
END:VEVENT
BEGIN:VEVENT
DTSTART;TZID=America/Chicago:20251226T140000
DTEND;TZID=America/Chicago:20251226T200000
DTSTAMP:20260422T100049
CREATED:20251202T144020Z
LAST-MODIFIED:20251202T144020Z
UID:5907-1766757600-1766779200@geneseo.org
SUMMARY:Joy To The World Nativity Display
DESCRIPTION:  \nCome enjoy the Joy To The World Nativity Display\, on display at St. Malachy Parish\, located at 539 E. Ogden Ave. \nThe display features almost 500 nativity scenes and is open from 2:00 pm to 8:00 pm December 26\, 2025 through January 1\, 2026. \nFree will donations will be accepted\, benefitting the St. Malachy Altar & Rosary Society. \n  \n \n 
URL:https://geneseo.org/event/joy-to-the-world-nativity-display/
LOCATION:St. Malachy’s Catholic Church\, 595 E. Ogden Avenue\, Geneseo\, IL\, 61254\, United States
END:VEVENT
BEGIN:VEVENT
DTSTART;TZID=America/Chicago:20251220T130000
DTEND;TZID=America/Chicago:20251220T160000
DTSTAMP:20260422T100049
CREATED:20250811T152919Z
LAST-MODIFIED:20250811T152919Z
UID:5437-1766235600-1766246400@geneseo.org
SUMMARY:4th Annual Magical Christmas
DESCRIPTION:  \n 
URL:https://geneseo.org/event/4th-annual-magical-christmas/
LOCATION:Geneseo Central Theater\, 111 N. State St.\, Geneseo\, IL\, 61254
END:VEVENT
BEGIN:VEVENT
DTSTART;TZID=America/Chicago:20251220T120000
DTEND;TZID=America/Chicago:20251220T150000
DTSTAMP:20260422T100049
CREATED:20251028T140004Z
LAST-MODIFIED:20251028T140004Z
UID:5786-1766232000-1766242800@geneseo.org
SUMMARY:Geneseo Farmer's Market - Indoor Market
DESCRIPTION:  \nThe Geneseo Farmer’s Market has moved indoors for the winter season! Many of our summer market vendors continue to sell their homemade and crafted items. We also have vendors that set up at our market only during our indoor season. Check us out during one of our monthly events! \n 
URL:https://geneseo.org/event/geneseo-farmers-market-indoor-market-2/
LOCATION:Geneseo Moose Lodge #990\, 1025 S. State St.\, Geneseo\, IL\, 61254\, United States
END:VEVENT
BEGIN:VEVENT
DTSTART;TZID=America/Chicago:20251220T090000
DTEND;TZID=America/Chicago:20251220T230000
DTSTAMP:20260422T100049
CREATED:20251020T134903Z
LAST-MODIFIED:20251020T134903Z
UID:5767-1766221200-1766271600@geneseo.org
SUMMARY:Breakfast with Santa at VFW
DESCRIPTION: 
URL:https://geneseo.org/event/breakfast-with-santa-at-vfw/
LOCATION:VFW Post 5083 Geneseo Illinois\, 223 S. State St.\, Geneseo\, IL\, 61254\, United States
END:VEVENT
BEGIN:VEVENT
DTSTART;TZID=America/Chicago:20251218T180000
DTEND;TZID=America/Chicago:20251218T200000
DTSTAMP:20260422T100049
CREATED:20250928T144040Z
LAST-MODIFIED:20250928T144040Z
UID:5639-1766080800-1766088000@geneseo.org
SUMMARY:Christmas Vacation Trivia Night
DESCRIPTION:  \nChristmas Vacation Trivia NightThursday\, December 18th @ 6pmRaelyn’s Pub & Eatery (Geneseo\, IL)\n\nFREE To PlayWin House Cash!ALL AGES
URL:https://geneseo.org/event/christmas-vacation-trivia-night/
LOCATION:Raelyn’s Pub & Eatery\, 217 N. State St.\, Geneseo\, IL\, 61254\, United States
END:VEVENT
BEGIN:VEVENT
DTSTART;TZID=America/Chicago:20251214T090000
DTEND;TZID=America/Chicago:20251214T110000
DTSTAMP:20260422T100049
CREATED:20251029T140501Z
LAST-MODIFIED:20251029T140501Z
UID:5810-1765702800-1765710000@geneseo.org
SUMMARY:Pancake Breakfast with Santa
DESCRIPTION: 
URL:https://geneseo.org/event/pancake-breakfast-with-santa/
LOCATION:Geneseo Moose Lodge #990\, 1025 S. State St.\, Geneseo\, IL\, 61254\, United States
END:VEVENT
BEGIN:VEVENT
DTSTART;TZID=America/Chicago:20251213T193000
DTEND;TZID=America/Chicago:20251213T210000
DTSTAMP:20260422T100049
CREATED:20250810T160109Z
LAST-MODIFIED:20250810T160109Z
UID:5418-1765654200-1765659600@geneseo.org
SUMMARY:WINDOWS OF HOPE: The 2025 Geneseo Christmas Walk Grand Finale Concert
DESCRIPTION:  \nAs the finale to the 2025 Geneseo Christmas Walk\, we are thrilled to announce: ‘Windows of Hope’; a free Contemporary Christmas Celebration Concert.\n\nCome sing with us! You’ll know every song! Some high energy\, some emotional\, yet all filled with the joy and hope found in the birth of One Solitary Life: Jesus.\n\nWe will also feature ‘Living Windows’\, a couple of monologues\, and refreshments throughout the evening!\nThe evening will close in candlelight.\n\nSaturday\, December 13\, 2025 @ 7:30 p.m. at the Geneseo High School Performing Arts Center\n\nPlease join us at Windows of Hope 2025!\n 
URL:https://geneseo.org/event/windows-of-hope-geneseo/
LOCATION:GHS Performing Arts Center\, 700 N. State St.\, Geneseo\, IL\, 61254\, United States
END:VEVENT
BEGIN:VEVENT
DTSTART;TZID=America/Chicago:20251213T160000
DTEND;TZID=America/Chicago:20251213T200000
DTSTAMP:20260422T100049
CREATED:20251029T141747Z
LAST-MODIFIED:20251029T141747Z
UID:5818-1765641600-1765656000@geneseo.org
SUMMARY:Christmas Walk Chicken Dinner
DESCRIPTION:  \nA Geneseo Christmas Walk favorite! Enjoy free holiday trolley rides from the Geneseo Moose Lodge #990 to Downtown Geneseo for the Christmas Walk event! \n 
URL:https://geneseo.org/event/christmas-walk-chicken-dinner/
LOCATION:Geneseo Moose Lodge #990\, 1025 S. State St.\, Geneseo\, IL\, 61254\, United States
END:VEVENT
BEGIN:VEVENT
DTSTART;TZID=America/Chicago:20251213T083000
DTEND;TZID=America/Chicago:20251213T103000
DTSTAMP:20260422T100049
CREATED:20251101T130451Z
LAST-MODIFIED:20251101T130451Z
UID:5824-1765614600-1765621800@geneseo.org
SUMMARY:Geneseo Jingle Run 5K
DESCRIPTION:  \nSaturday December 13\, 2025 \nRegistration: 7:30am – 8:30am \nRace Start Time: 8:30am \nWhere: **NEW LOCATION & ROUTE* Richmond Hill Park – 600 HK Robinson Drive in Geneseo\, Illinois \nA great way to kick-off Geneseo’s Christmas Walk is with the popular and FUN Jingle Run 5K! \n2025 marks the 15-year anniversary of our region’s favorite annual holiday themed 5K run. The first 125 runners will receive a shirt\, medals to be awarded to men’s’ & women’s top division finishers.\nAll runners will receive jingle bells for shoes or bibs so you actually jingle while you run! \nThe link to for registration and 5K information for the 2025 Geneseo Jingle Run can be found HERE: https://runsignup.com/Race/IL/Geneseo/GeneseoJingleRun \nRace day check-in & registration opens at 7:30 am\, Race steps off at 8:30 am. \n  \n \n 
URL:https://geneseo.org/event/geneseo-jingle-run-5k/
LOCATION:Richmond Hill Park\, 600 HK Robinson Dr.\, Geneseo\, IL\, 61254\, United States
END:VEVENT
BEGIN:VEVENT
DTSTART;TZID=America/Chicago:20251213T080000
DTEND;TZID=America/Chicago:20251213T200000
DTSTAMP:20260422T100049
CREATED:20250811T153520Z
LAST-MODIFIED:20250811T153520Z
UID:5440-1765612800-1765656000@geneseo.org
SUMMARY:2025 Geneseo Christmas Walk presents: Windows of Hope
DESCRIPTION:  \nThe 2025 Geneseo Christmas Walk presents: Windows of Hope! Also\, 2025 marks the 40th Anniversary of the Geneseo Christmas Walk! Save the date and stay tuned for more details.
URL:https://geneseo.org/event/2025-geneseo-christmas-walk-presents-windows-of-hope/
LOCATION:Downtown Geneseo
ORGANIZER;CN="Geneseo Chamber of Commerce":MAILTO:geneseo@geneseo.org
END:VEVENT
END:VCALENDAR